BEGIN:VCALENDAR
VERSION:2.0
PRODID:-//NOW Toronto - ECPv6.15.20//NONSGML v1.0//EN
CALSCALE:GREGORIAN
METHOD:PUBLISH
X-WR-CALNAME:NOW Toronto
X-ORIGINAL-URL:https://nowtoronto.com
X-WR-CALDESC:Events for NOW Toronto
REFRESH-INTERVAL;VALUE=DURATION:PT1H
X-Robots-Tag:noindex
X-PUBLISHED-TTL:PT1H
BEGIN:VTIMEZONE
TZID:America/Toronto
BEGIN:DAYLIGHT
TZOFFSETFROM:-0500
TZOFFSETTO:-0400
TZNAME:EDT
DTSTART:20250309T070000
END:DAYLIGHT
BEGIN:STANDARD
TZOFFSETFROM:-0400
TZOFFSETTO:-0500
TZNAME:EST
DTSTART:20251102T060000
END:STANDARD
BEGIN:DAYLIGHT
TZOFFSETFROM:-0500
TZOFFSETTO:-0400
TZNAME:EDT
DTSTART:20260308T070000
END:DAYLIGHT
BEGIN:STANDARD
TZOFFSETFROM:-0400
TZOFFSETTO:-0500
TZNAME:EST
DTSTART:20261101T060000
END:STANDARD
BEGIN:DAYLIGHT
TZOFFSETFROM:-0500
TZOFFSETTO:-0400
TZNAME:EDT
DTSTART:20270314T070000
END:DAYLIGHT
BEGIN:STANDARD
TZOFFSETFROM:-0400
TZOFFSETTO:-0500
TZNAME:EST
DTSTART:20271107T060000
END:STANDARD
END:VTIMEZONE
BEGIN:VEVENT
DTSTART;TZID=America/Toronto:20260423T180000
DTEND;TZID=America/Toronto:20260423T230000
DTSTAMP:20260422T034717
CREATED:20260421T130021Z
LAST-MODIFIED:20260421T130021Z
UID:10310557-1776967200-1776985200@nowtoronto.com
SUMMARY:Fearless Hearts Concert
DESCRIPTION:Fearless Hearts is a one-night musical fundraiser supporting children with congenital heart disease. \nThis year’s edition will celebrate the music of Taylor Swift\, brought to life by incredible artists coming together for one powerful cause. \nEvery ticket sold helps send children with congenital heart disease to Camp Oki\, a medically supported summer camp where they can play freely\, build confidence\, and simply be themselves. \nLocation: Lula Lounge\, 1585 Dundas Street W\, Toronto \nDate: April 23\, 2026 \nTime: 7PM EST \nPurchase tickets now at www.eventbrite.ca
URL:https://nowtoronto.com/event/fearless-hearts-concert/
LOCATION:Lula Lounge\, 1585 Dundas St W\, Toronto\, M6K 1T9
CATEGORIES:Art & Design,Community Events,Festivals,Kids & Family,Live Music
ATTACH;FMTTYPE=image/png:https://nowtoronto.com/wp-content/uploads/2026/02/fearless-hearts-concert.png
END:VEVENT
BEGIN:VEVENT
DTSTART;TZID=America/Toronto:20260423T190000
DTEND;TZID=America/Toronto:20260423T210000
DTSTAMP:20260422T034717
CREATED:20260421T130021Z
LAST-MODIFIED:20260421T130021Z
UID:10310551-1776970800-1776978000@nowtoronto.com
SUMMARY:Movie Night @ Soulpepper: The African Desperate
DESCRIPTION:Join us at Soulpepper Theatre for a screening of The African Desperate\, the hilarious and hyperreal satire from multimedia artist Martine Syms. Inspired by her own experience as an MFA student at the predominantly white Bard College\, The African Desperate follows the fictional Palace Bryant in her dizzying last 24 hours at art school. From critiques to ketamine\, Palace takes a final journey through the hedonistic\, contrived and liminal world of the elite institution. \nDoors at 6:30pm. Free general admission. Book tickets in advance .
URL:https://nowtoronto.com/event/movie-night-soulpepper-the-african-desperate/
LOCATION:Soulpepper Theatre Co\, 50 Tank House Lane\, Toronto\, ON M5A 3C4\, Canada\, Old Toronto\, Toronto\, Ontario\, M5A 3C4
CATEGORIES:Community Events,Film & Media,Theatre & Opera
ATTACH;FMTTYPE=image/png:https://nowtoronto.com/wp-content/uploads/2026/04/movie-night-soulpepper-the-african-desperate.png
END:VEVENT
BEGIN:VEVENT
DTSTART;TZID=America/Toronto:20260423T190000
DTEND;TZID=America/Toronto:20260423T220000
DTSTAMP:20260422T034717
CREATED:20260421T130021Z
LAST-MODIFIED:20260421T130021Z
UID:10310554-1776970800-1776981600@nowtoronto.com
SUMMARY:NB Distillers Presents: Sistema Spirits
DESCRIPTION:Join us on April 23rd at 7pm for NB Distillers Presents: Sistema Spirits! \nThis intimate evening will feature live orchestral music\, hors d’oeuvres\, a silent auction\, and a selection of craft beverages provided by our sponsor\, NB Distillers. \nThis exclusive event brings together supporters of Sistema Toronto and lovers of live music in support of Toronto’s underserved communities. All of the proceeds from NB Distillers Presents: Sistema Spirits will help bring more students into Sistema Toronto’s music and social development program\, and ensure that we can continue offering music education at no cost to participants’ families. \n🗓 Thursday\, April 23rd\, 2026 \n⏰ 7:00pm \n📍 The Bakery Building\, 2 Fraser Ave.\, Liberty Village\, Toronto \n🎟 $75 (includes hors d’oeuvres and drinks) \nTickets are limited!  Purchase yours today.
URL:https://nowtoronto.com/event/nb-distillers-presents-sistema-spirits/
LOCATION:2 Fraser Avenue\, 2 Fraser Ave\, Toronto\, ON M6K 1Y7\, Canada\, Old Toronto\, Toronto\, Ontario\, M6K 1Y7
CATEGORIES:Community Events,Food & Drink,Live Music
ATTACH;FMTTYPE=image/png:https://nowtoronto.com/wp-content/uploads/2026/03/nb-distillers-presents-sistema-spirits.png
END:VEVENT
END:VCALENDAR