BEGIN:VCALENDAR
VERSION:2.0
PRODID:-//NOW Toronto - ECPv6.15.20//NONSGML v1.0//EN
CALSCALE:GREGORIAN
METHOD:PUBLISH
X-WR-CALNAME:NOW Toronto
X-ORIGINAL-URL:https://nowtoronto.com
X-WR-CALDESC:Events for NOW Toronto
REFRESH-INTERVAL;VALUE=DURATION:PT1H
X-Robots-Tag:noindex
X-PUBLISHED-TTL:PT1H
BEGIN:VTIMEZONE
TZID:America/Toronto
BEGIN:DAYLIGHT
TZOFFSETFROM:-0500
TZOFFSETTO:-0400
TZNAME:EDT
DTSTART:20250309T070000
END:DAYLIGHT
BEGIN:STANDARD
TZOFFSETFROM:-0400
TZOFFSETTO:-0500
TZNAME:EST
DTSTART:20251102T060000
END:STANDARD
BEGIN:DAYLIGHT
TZOFFSETFROM:-0500
TZOFFSETTO:-0400
TZNAME:EDT
DTSTART:20260308T070000
END:DAYLIGHT
BEGIN:STANDARD
TZOFFSETFROM:-0400
TZOFFSETTO:-0500
TZNAME:EST
DTSTART:20261101T060000
END:STANDARD
BEGIN:DAYLIGHT
TZOFFSETFROM:-0500
TZOFFSETTO:-0400
TZNAME:EDT
DTSTART:20270314T070000
END:DAYLIGHT
BEGIN:STANDARD
TZOFFSETFROM:-0400
TZOFFSETTO:-0500
TZNAME:EST
DTSTART:20271107T060000
END:STANDARD
END:VTIMEZONE
BEGIN:VEVENT
DTSTART;TZID=America/Toronto:20260423T183000
DTEND;TZID=America/Toronto:20260423T193000
DTSTAMP:20260422T002427
CREATED:20260421T130020Z
LAST-MODIFIED:20260421T130020Z
UID:10310524-1776969000-1776972600@nowtoronto.com
SUMMARY:Exhibition Walkthrough: Rui Pimenta on Glorious Catastrophe
DESCRIPTION:Join Rui Pimenta\, writer of texts about the exhibition\, for a walkthrough of Glorious Catastrophe by Toronto artist Gillian Iles. Pimenta will share his insights about the whole installation and specific artworks so visitors can engage more deeply with the metaphors and dualities presented in Iles’s work. \n– \nRui Pimenta has been connected to the arts for close to 30 years\, including a visual art practice from 2000-2014 during which time he exhibited his work extensively in Canada and Europe. Since then his creative focus has shifted towards programming and curation. In 2009 he founded Art Spin\, an arts organization now in its 16th year of presenting site-specific\, multidisciplinary programming in unique/alternative spaces and best known for its bicycle art tours. He was the Co-Director for the artist run Median Contemporary (2008-10) and has curated projects for Eastern Front Gallery\, Toronto Artists Project\, the Toronto Outdoor. Exhibition\, and the Government of Portugal. He has served on various arts council juries\, was a member of the City of Toronto’s Public Art Strategy Advisory Committee and The Bentway’s Advisory Committee. His curatorial aspirations are largely motivated by the enthusiastic pursuit of creating engaging and accessible ways to present art in public space.
URL:https://nowtoronto.com/event/exhibition-walkthrough-rui-pimenta-on-glorious-catastrophe/
LOCATION:Koffler Arts\, 180 Shaw St\, unit 301\, Toronto\, ON M6J 2W5\, Canada\, Old Toronto\, Toronto\, Ontario\, M6J 2W5
CATEGORIES:Art & Design,Exhibitions,Tours
ATTACH;FMTTYPE=image/png:https://nowtoronto.com/wp-content/uploads/2026/04/exhibition-walkthrough-rui-pimenta-on-glorious-catastrophe.png
END:VEVENT
BEGIN:VEVENT
DTSTART;TZID=America/Toronto:20260423T200000
DTEND;TZID=America/Toronto:20260426T160000
DTSTAMP:20260422T002427
CREATED:20260421T130022Z
LAST-MODIFIED:20260421T130022Z
UID:10310565-1776974400-1777219200@nowtoronto.com
SUMMARY:Toronto Camera Club AV Festival
DESCRIPTION:Ten spectacular Audio-Visual (AV) presentations were created for this festival by some of the Toronto Camera Club’s most award-winning and talented photographers in this art form.  \nThese AV makers are inviting our viewing audience to share in their travel journeys and artistic creations. Immerse in the vibrant colours of Peru\, relax in the cafes of Paris\, view surreal rock formations from above in Turkey\, and embrace the rugged coastal scenery of Newfoundland.  \nJoin two adventures in search of wildlife and landscapes in the southern hemisphere\, one in the barren white expanses of Antarctica\, and the other in the dramatic arid deserts of Namibia. Marvel at the union of photography and imagination as four of our presenters share their creative visions with themes of water droplet sculptures\, animated food\, two very mischievous mice\, and the innovation of artificial intelligence.
URL:https://nowtoronto.com/event/toronto-camera-club-av-festival/
LOCATION:Toronto Camera Club\, 587 Mt Pleasant Rd\, Toronto\, ON M4S 2M5\, Canada\, Old Toronto\, Toronto\, Ontario\, M4S 2M5
CATEGORIES:Exhibitions,Film & Media
ATTACH;FMTTYPE=image/png:https://nowtoronto.com/wp-content/uploads/2026/03/toronto-camera-club-av-festival.png
END:VEVENT
END:VCALENDAR