BEGIN:VCALENDAR
VERSION:2.0
PRODID:-//NOW Toronto - ECPv6.15.20//NONSGML v1.0//EN
CALSCALE:GREGORIAN
METHOD:PUBLISH
X-WR-CALNAME:NOW Toronto
X-ORIGINAL-URL:https://nowtoronto.com
X-WR-CALDESC:Events for NOW Toronto
REFRESH-INTERVAL;VALUE=DURATION:PT1H
X-Robots-Tag:noindex
X-PUBLISHED-TTL:PT1H
BEGIN:VTIMEZONE
TZID:America/Toronto
BEGIN:DAYLIGHT
TZOFFSETFROM:-0500
TZOFFSETTO:-0400
TZNAME:EDT
DTSTART:20250309T070000
END:DAYLIGHT
BEGIN:STANDARD
TZOFFSETFROM:-0400
TZOFFSETTO:-0500
TZNAME:EST
DTSTART:20251102T060000
END:STANDARD
BEGIN:DAYLIGHT
TZOFFSETFROM:-0500
TZOFFSETTO:-0400
TZNAME:EDT
DTSTART:20260308T070000
END:DAYLIGHT
BEGIN:STANDARD
TZOFFSETFROM:-0400
TZOFFSETTO:-0500
TZNAME:EST
DTSTART:20261101T060000
END:STANDARD
BEGIN:DAYLIGHT
TZOFFSETFROM:-0500
TZOFFSETTO:-0400
TZNAME:EDT
DTSTART:20270314T070000
END:DAYLIGHT
BEGIN:STANDARD
TZOFFSETFROM:-0400
TZOFFSETTO:-0500
TZNAME:EST
DTSTART:20271107T060000
END:STANDARD
END:VTIMEZONE
BEGIN:VEVENT
DTSTART;TZID=America/Toronto:20260422T190000
DTEND;TZID=America/Toronto:20260422T210000
DTSTAMP:20260422T052030
CREATED:20260421T130019Z
LAST-MODIFIED:20260421T130019Z
UID:10310520-1776884400-1776891600@nowtoronto.com
SUMMARY:Sex And The City Trivia Night - Snakes & Lattes Annex
DESCRIPTION:Get your tickets here: https://www.eventbrite.ca/e/sex-and-the-city-trivia-night-snakes-lattes-annex-tickets-1986267548707?aff=destinationtoronto  \nStep into the world of fashion\, friendship\, and unforgettable NYC moments at Snakes & Lattes Annex on April 22nd for Sex and the City Trivia Night 💄✨ \nFrom Carrie’s iconic columns to Samantha’s bold one-liners\, Miranda’s career highs\, and Charlotte’s romantic ups and downs\, test your knowledge of the beloved series. Gather your besties\, sip something fabulous\, and see if you’ve got what it takes to be the ultimate New Yorker at heart! \nTimeline: \n\nTrivia starts at 7:00PM & ends around 9:00PM\n\nAbout the event: \n\nPrizes will be awarded to top 3 teams\, including beers offered by Side Launch as well as Gift Cards to Snakes & Lattes\nTry our delicious themed cocktails & menu\nBONUS POINTS will be given to those who dress up!\n\nImportant information: \n\nTickets are priced and sold by table + Eventbrite fees and tax\nEach team only needs to purchase one table that fits their team size (i.e If buy a 4 Person Table\, that team may only have 4 or fewer members)\nThis event will be at our Annex location (600 Bloor St W\, Toronto)
URL:https://nowtoronto.com/event/sex-and-the-city-trivia-night-snakes-lattes-annex/
LOCATION:600 Bloor Street West\, 600 Bloor St W\, Toronto\, ON M6G 1K4\, Canada\, Old Toronto\, Toronto\, Ontario\, M6G 1K4
CATEGORIES:Community Events,Games & Trivia
ATTACH;FMTTYPE=image/png:https://nowtoronto.com/wp-content/uploads/2026/04/sex-and-the-city-trivia-night-snakes-lattes-annex.png
END:VEVENT
BEGIN:VEVENT
DTSTART;TZID=America/Toronto:20260422T193000
DTEND;TZID=America/Toronto:20260422T213000
DTSTAMP:20260422T052030
CREATED:20260421T130020Z
LAST-MODIFIED:20260421T130020Z
UID:10310521-1776886200-1776893400@nowtoronto.com
SUMMARY:Bingo Beats Singles Night | Top 40 Hits | Toronto
DESCRIPTION:Get ready to mix your moves and maybe find a match while jamming to the hottest Top 40 tracks! \nMusic\, prizes\, and plenty of chances to meet new people.\nPlay bingo with a twist\, team up to find the songs\, and swap tables to mix things up. Every prize is worth $20 or more. Interactive\, low-pressure\, and totally unique. It is more than just a singles event\, it is an experience. \nInclusions: \n\nDelicious appetizers\nAn evening of music bingo fun featuring hot hits\nFun prizes
URL:https://nowtoronto.com/event/bingo-beats-singles-night-top-40-hits-toronto/
LOCATION:The Carbon Snack Bar\, 460 King St W\, Toronto\, ON M5V 2J4\, Canada\, Old Toronto\, Toronto\, Ontario\, M5V 2J4
CATEGORIES:Games & Trivia,Live Music,Nightlife
ATTACH;FMTTYPE=image/png:https://nowtoronto.com/wp-content/uploads/2026/04/bingo-beats-singles-night-top-40-hits-toronto.png
END:VEVENT
END:VCALENDAR