BEGIN:VCALENDAR
VERSION:2.0
PRODID:-//NOW Toronto - ECPv6.15.20//NONSGML v1.0//EN
CALSCALE:GREGORIAN
METHOD:PUBLISH
X-ORIGINAL-URL:https://nowtoronto.com
X-WR-CALDESC:Events for NOW Toronto
REFRESH-INTERVAL;VALUE=DURATION:PT1H
X-Robots-Tag:noindex
X-PUBLISHED-TTL:PT1H
BEGIN:VTIMEZONE
TZID:America/Toronto
BEGIN:DAYLIGHT
TZOFFSETFROM:-0500
TZOFFSETTO:-0400
TZNAME:EDT
DTSTART:20250309T070000
END:DAYLIGHT
BEGIN:STANDARD
TZOFFSETFROM:-0400
TZOFFSETTO:-0500
TZNAME:EST
DTSTART:20251102T060000
END:STANDARD
BEGIN:DAYLIGHT
TZOFFSETFROM:-0500
TZOFFSETTO:-0400
TZNAME:EDT
DTSTART:20260308T070000
END:DAYLIGHT
BEGIN:STANDARD
TZOFFSETFROM:-0400
TZOFFSETTO:-0500
TZNAME:EST
DTSTART:20261101T060000
END:STANDARD
BEGIN:DAYLIGHT
TZOFFSETFROM:-0500
TZOFFSETTO:-0400
TZNAME:EDT
DTSTART:20270314T070000
END:DAYLIGHT
BEGIN:STANDARD
TZOFFSETFROM:-0400
TZOFFSETTO:-0500
TZNAME:EST
DTSTART:20271107T060000
END:STANDARD
END:VTIMEZONE
BEGIN:VEVENT
DTSTART;TZID=America/Toronto:20260502T110000
DTEND;TZID=America/Toronto:20260502T160000
DTSTAMP:20260422T051342
CREATED:20260421T130039Z
LAST-MODIFIED:20260421T130039Z
UID:10310804-1777719600-1777737600@nowtoronto.com
SUMMARY:Spring Market Sip ‘n’ Shop at The Kimpton Saint George
DESCRIPTION:Say hello to warmer days at the Kimpton Saint George’s annual Spring Market Sip ‘n’ Shop! On Saturday\, May 2nd\, from 11 AM – 4 PM\, discover 12 of Toronto’s favourite luxe local vendors at one stylish pop-up event! It’s the perfect place to find thoughtful gifts for moms and the special women in your life. \nEnjoy sips from Paradise Grapevine and DAVIDsTEA as you browse\, live music by Jesse Maxwell\, and support locally-owned Canadian businesses! All are welcome to come sip\, shop\, and celebrate all things local this spring. \nPlus\, our Spring Market Sip ‘n’ Shop is proudly supporting Red Door Family Shelter. Guests are encouraged to bring a donation item from the shelter’s current needs list\, which includes non-perishable food items\, feminine hygiene products\, and more. \nCurated vendors include: \n\nBeesButter Canada\nChasma Skin\nOlivia’s Garden\nSCNT Perfume Oils\nJaded\nHailed Coffee\nKlas\nHous of Ours\nLife on Paper and more!
URL:https://nowtoronto.com/event/spring-market-sip-n-shop-at-the-kimpton-saint-george/
LOCATION:Kimpton Saint George Hotel\, 280 Bloor St W\, Toronto\, M5S 1V8
CATEGORIES:Markets
ATTACH;FMTTYPE=image/png:https://nowtoronto.com/wp-content/uploads/2026/04/spring-market-sip-n-shop-at-the-kimpton-saint-george.png
END:VEVENT
BEGIN:VEVENT
DTSTART;TZID=America/Toronto:20260502T120000
DTEND;TZID=America/Toronto:20260503T170000
DTSTAMP:20260422T051342
CREATED:20260421T130041Z
LAST-MODIFIED:20260421T130041Z
UID:10310817-1777723200-1777827600@nowtoronto.com
SUMMARY:TORONTO TOY RIOT
DESCRIPTION:TORONTO TOY RIOT is a not-for-profit\, 2 day indie toy and pop art expo.  \nDiscover the world of custom made art and designer toys\, created by makers from across North America. \nOver 30 artists / vendors\, including vintage and bootleg toy sellers\, as well as interactive art stations for the whole family.
URL:https://nowtoronto.com/event/toronto-toy-riot/
LOCATION:292 Brunswick Avenue\, 292 Brunswick Ave\, Toronto\, ON M5S 2M7\, Canada\, Old Toronto\, Toronto\, Ontario\, M5S 2M7
CATEGORIES:Art & Design,Markets
ATTACH;FMTTYPE=image/png:https://nowtoronto.com/wp-content/uploads/2026/03/toronto-toy-riot.png
END:VEVENT
END:VCALENDAR