BEGIN:VCALENDAR
VERSION:2.0
PRODID:-//NOW Toronto - ECPv6.15.20//NONSGML v1.0//EN
CALSCALE:GREGORIAN
METHOD:PUBLISH
X-ORIGINAL-URL:https://nowtoronto.com
X-WR-CALDESC:Events for NOW Toronto
REFRESH-INTERVAL;VALUE=DURATION:PT1H
X-Robots-Tag:noindex
X-PUBLISHED-TTL:PT1H
BEGIN:VTIMEZONE
TZID:America/Toronto
BEGIN:DAYLIGHT
TZOFFSETFROM:-0500
TZOFFSETTO:-0400
TZNAME:EDT
DTSTART:20250309T070000
END:DAYLIGHT
BEGIN:STANDARD
TZOFFSETFROM:-0400
TZOFFSETTO:-0500
TZNAME:EST
DTSTART:20251102T060000
END:STANDARD
BEGIN:DAYLIGHT
TZOFFSETFROM:-0500
TZOFFSETTO:-0400
TZNAME:EDT
DTSTART:20260308T070000
END:DAYLIGHT
BEGIN:STANDARD
TZOFFSETFROM:-0400
TZOFFSETTO:-0500
TZNAME:EST
DTSTART:20261101T060000
END:STANDARD
BEGIN:DAYLIGHT
TZOFFSETFROM:-0500
TZOFFSETTO:-0400
TZNAME:EDT
DTSTART:20270314T070000
END:DAYLIGHT
BEGIN:STANDARD
TZOFFSETFROM:-0400
TZOFFSETTO:-0500
TZNAME:EST
DTSTART:20271107T060000
END:STANDARD
END:VTIMEZONE
BEGIN:VEVENT
DTSTART;TZID=America/Toronto:20260422T193000
DTEND;TZID=America/Toronto:20260426T153000
DTSTAMP:20260422T053810
CREATED:20260421T130020Z
LAST-MODIFIED:20260421T130020Z
UID:10310530-1776886200-1777217400@nowtoronto.com
SUMMARY:Knife
DESCRIPTION:World Premiere of a new play by Eric Trudell. \nLuke was only supposed to be a door-to-door knife salesman until the end of summer. Tanner has been doing it for eleven years. At a picnic table in London\, Ontario\, the two blur the lines of work and life. What happens when a recent high school graduate forms a close friendship with his thirty-something coworker? Are they actually similar\, or are they both desperate to find someone who shares their same loneliness? \nKnife is a tense\, sharp comedy about work\, purpose\, and not being able to connect with people your own age.
URL:https://nowtoronto.com/event/knife/
LOCATION:The Theatre Centre\, 1115 Queen St. West\, Old Toronto\, Toronto\, Ontario\, M6J 1J1
CATEGORIES:Theatre & Opera
ATTACH;FMTTYPE=image/png:https://nowtoronto.com/wp-content/uploads/2026/02/knife.png
END:VEVENT
BEGIN:VEVENT
DTSTART;TZID=America/Toronto:20260422T193000
DTEND;TZID=America/Toronto:20260510T150000
DTSTAMP:20260422T053810
CREATED:20260421T130020Z
LAST-MODIFIED:20260421T130020Z
UID:10310534-1776886200-1778425200@nowtoronto.com
SUMMARY:Moulin Rouge! The Musical
DESCRIPTION:Pop the champagne\, Moulin Rouge! The Musical is the winner of 10 Tony Awards—including Best Musical! \nEnter a world of splendour and romance\, of eye-popping excess\, of glitz\, grandeur\, and glory! A world where bohemians and aristocrats rub elbows and revel in electrifying enchantment. Baz Luhrmann’s revolutionary film comes to life onstage\, remixed in a new musical mash-up extravaganza. Directed by Tony Award winner Alex Timbers\, Moulin Rouge! The Musical is a theatrical celebration of Truth\, Beauty\, Freedom\, and—above all—Love.
URL:https://nowtoronto.com/event/moulin-rouge-the-musical/
LOCATION:Ed Mirvish Theatre\, Ed Mirvish Theatre\, 244 Victoria Street\, M5B 1V8 Toronto\, Ontario\, Canada\, Toronto\, M5B 1V8
CATEGORIES:Performing Arts,Theatre & Opera
ATTACH;FMTTYPE=image/png:https://nowtoronto.com/wp-content/uploads/2026/03/moulin-rouge-the-musical.png
END:VEVENT
END:VCALENDAR