BEGIN:VCALENDAR
VERSION:2.0
PRODID:-//NOW Toronto - ECPv6.15.20//NONSGML v1.0//EN
CALSCALE:GREGORIAN
METHOD:PUBLISH
X-ORIGINAL-URL:https://nowtoronto.com
X-WR-CALDESC:Events for NOW Toronto
REFRESH-INTERVAL;VALUE=DURATION:PT1H
X-Robots-Tag:noindex
X-PUBLISHED-TTL:PT1H
BEGIN:VTIMEZONE
TZID:America/Toronto
BEGIN:DAYLIGHT
TZOFFSETFROM:-0500
TZOFFSETTO:-0400
TZNAME:EDT
DTSTART:20250309T070000
END:DAYLIGHT
BEGIN:STANDARD
TZOFFSETFROM:-0400
TZOFFSETTO:-0500
TZNAME:EST
DTSTART:20251102T060000
END:STANDARD
BEGIN:DAYLIGHT
TZOFFSETFROM:-0500
TZOFFSETTO:-0400
TZNAME:EDT
DTSTART:20260308T070000
END:DAYLIGHT
BEGIN:STANDARD
TZOFFSETFROM:-0400
TZOFFSETTO:-0500
TZNAME:EST
DTSTART:20261101T060000
END:STANDARD
BEGIN:DAYLIGHT
TZOFFSETFROM:-0500
TZOFFSETTO:-0400
TZNAME:EDT
DTSTART:20270314T070000
END:DAYLIGHT
BEGIN:STANDARD
TZOFFSETFROM:-0400
TZOFFSETTO:-0500
TZNAME:EST
DTSTART:20271107T060000
END:STANDARD
END:VTIMEZONE
BEGIN:VEVENT
DTSTART;TZID=America/Toronto:20260509T083000
DTEND;TZID=America/Toronto:20260509T130000
DTSTAMP:20260419T165423
CREATED:20260419T130042Z
LAST-MODIFIED:20260419T130042Z
UID:10307510-1778315400-1778331600@nowtoronto.com
SUMMARY:Meagan's Hug and Walk
DESCRIPTION:For 25 years\, Meagan Bebenek Foundation has been a beacon of hope for families facing the unimaginable: a childhood brain tumour diagnosis. And for 25 years\, our community has united around the most powerful symbol of our mission – The HUG. \nThis year\, we celebrate 25 years of community\, compassion\, and unwavering hope – and you’re invited to be part of this milestone moment. \nJoin us as we kick off at De La Salle College\, walk through downtown Toronto\, and wrap our arms around SickKids in one power HUG! 
URL:https://nowtoronto.com/event/meagans-hug-and-walk/
LOCATION:131 Farnham Avenue\, 131 Farnham Ave\, Toronto\, ON M4V 1H7\, Canada\, Old Toronto\, Toronto\, Ontario\, M4V 1H7
CATEGORIES:Community Events,Fitness & Wellness,Kids & Family,Outdoor
ATTACH;FMTTYPE=image/png:https://nowtoronto.com/wp-content/uploads/2026/04/meagans-hug-and-walk.png
END:VEVENT
END:VCALENDAR