BEGIN:VCALENDAR
VERSION:2.0
PRODID:-//NOW Toronto - ECPv6.15.20//NONSGML v1.0//EN
CALSCALE:GREGORIAN
METHOD:PUBLISH
X-ORIGINAL-URL:https://nowtoronto.com
X-WR-CALDESC:Events for NOW Toronto
REFRESH-INTERVAL;VALUE=DURATION:PT1H
X-Robots-Tag:noindex
X-PUBLISHED-TTL:PT1H
BEGIN:VTIMEZONE
TZID:America/Toronto
BEGIN:DAYLIGHT
TZOFFSETFROM:-0500
TZOFFSETTO:-0400
TZNAME:EDT
DTSTART:20250309T070000
END:DAYLIGHT
BEGIN:STANDARD
TZOFFSETFROM:-0400
TZOFFSETTO:-0500
TZNAME:EST
DTSTART:20251102T060000
END:STANDARD
BEGIN:DAYLIGHT
TZOFFSETFROM:-0500
TZOFFSETTO:-0400
TZNAME:EDT
DTSTART:20260308T070000
END:DAYLIGHT
BEGIN:STANDARD
TZOFFSETFROM:-0400
TZOFFSETTO:-0500
TZNAME:EST
DTSTART:20261101T060000
END:STANDARD
BEGIN:DAYLIGHT
TZOFFSETFROM:-0500
TZOFFSETTO:-0400
TZNAME:EDT
DTSTART:20270314T070000
END:DAYLIGHT
BEGIN:STANDARD
TZOFFSETFROM:-0400
TZOFFSETTO:-0500
TZNAME:EST
DTSTART:20271107T060000
END:STANDARD
END:VTIMEZONE
BEGIN:VEVENT
DTSTART;TZID=America/Toronto:20260427T180000
DTEND;TZID=America/Toronto:20260427T220000
DTSTAMP:20260419T020445
CREATED:20260418T130031Z
LAST-MODIFIED:20260418T130031Z
UID:10305458-1777312800-1777327200@nowtoronto.com
SUMMARY:MICHELIN-Recognized Favorites Thai Hosts One-Night Winemaker Dinn
DESCRIPTION:Toronto\, ON — April 8\, 2026 — This spring\, four-time MICHELIN Bib Gourmand–recognized Favorites Thai will host a one-night winemaker dinner in collaboration with Tenuta Santomè on Monday\, April 27 at 6:00 PM. The Ossington restaurant will present a ticketed\, multi-course tasting menu priced at $120 per person (exclusive of tax and gratuity)\, pairing its contemporary Thai cuisine with wines from the Veneto-based producer. Tickets for the event are available through the restaurant’s OpenTable under ‘Experiences’ HERE. \nDesigned as a one-night-only experience\, the dinner brings together bold\, fire-driven Thai flavours with a curated selection of Italian wines\, offering a format that is both social and structured. Each course has been developed to highlight contrast and balance\, with pairings that respond to spice\, acidity\, and texture. \nThe evening will be hosted in partnership with Tenuta Santomè\, a winery based in the heart of Italy’s Treviso province\, known for its focus on expressing local grape varieties through precise\, sustainable viticulture. For the dinner\, guests will be joined by winery owner William Spinazzè\, who will guide the pairings and share insights into the estate’s approach to winemaking and its perspective on Veneto terroir. \nThe collaboration builds on Favorites Thai’s evolving culinary direction under Head Chef Ronnie Xu\, whose cooking emphasizes charcoal-driven technique and a refined approach to Thai tradition. The format offers a focused opportunity to explore how Thai cuisine interacts with Italian wine in a curated setting. \nEvent Details \n\nDate: Monday\, April 27\, 2026\nTime: 6:00 PM\nLocation: Favorites Thai\, 141 Ossington Avenue\, Toronto\nTickets: $120 per person ++\nExperience: Multi-course tasting menu with wine pairings\nNote: Due to the set nature of this menu\, Favorites Thai is unable to accommodate gluten\, shellfish\, allium\, or seafood allergies.\n\nReservations: Available via OpenTable HERE.
URL:https://nowtoronto.com/event/michelin-recognized-favorites-thai-hosts-one-night-winemaker-dinn/
LOCATION:141 Ossington Avenue\, 141 Ossington Ave\, Toronto\, ON M6J 2Z6\, Canada\, Old Toronto\, Toronto\, Ontario\, M6J 2Z6
CATEGORIES:Food & Drink
ATTACH;FMTTYPE=image/png:https://nowtoronto.com/wp-content/uploads/2026/04/michelin-recognized-favorites-thai-hosts-one-night-winemaker-dinn.png
END:VEVENT
END:VCALENDAR