BEGIN:VCALENDAR
VERSION:2.0
PRODID:-//NOW Toronto - ECPv6.15.20//NONSGML v1.0//EN
CALSCALE:GREGORIAN
METHOD:PUBLISH
X-ORIGINAL-URL:https://nowtoronto.com
X-WR-CALDESC:Events for NOW Toronto
REFRESH-INTERVAL;VALUE=DURATION:PT1H
X-Robots-Tag:noindex
X-PUBLISHED-TTL:PT1H
BEGIN:VTIMEZONE
TZID:America/Toronto
BEGIN:DAYLIGHT
TZOFFSETFROM:-0500
TZOFFSETTO:-0400
TZNAME:EDT
DTSTART:20250309T070000
END:DAYLIGHT
BEGIN:STANDARD
TZOFFSETFROM:-0400
TZOFFSETTO:-0500
TZNAME:EST
DTSTART:20251102T060000
END:STANDARD
BEGIN:DAYLIGHT
TZOFFSETFROM:-0500
TZOFFSETTO:-0400
TZNAME:EDT
DTSTART:20260308T070000
END:DAYLIGHT
BEGIN:STANDARD
TZOFFSETFROM:-0400
TZOFFSETTO:-0500
TZNAME:EST
DTSTART:20261101T060000
END:STANDARD
BEGIN:DAYLIGHT
TZOFFSETFROM:-0500
TZOFFSETTO:-0400
TZNAME:EDT
DTSTART:20270314T070000
END:DAYLIGHT
BEGIN:STANDARD
TZOFFSETFROM:-0400
TZOFFSETTO:-0500
TZNAME:EST
DTSTART:20271107T060000
END:STANDARD
END:VTIMEZONE
BEGIN:VEVENT
DTSTART;TZID=America/Toronto:20260627T120000
DTEND;TZID=America/Toronto:20260627T190000
DTSTAMP:20260422T161730
CREATED:20260422T130143Z
LAST-MODIFIED:20260422T130143Z
UID:10313409-1782561600-1782586800@nowtoronto.com
SUMMARY:The Summer and Shade Community Market
DESCRIPTION:Summer Vibes Meet Mystical Finds! ☀️✨ \nJoin us for the Summer & Shade Community Market on June 27th! We’re bringing together the best of Etobicoke’s local talent for a day of art\, magic\, and community spirit. \nWhen: June 27th\, 2026 | 12 PM – 7 PM \n\nWhere: 5005 Dundas St. West / 47 Mabelle Ave\, Etobicoke\nEntry: ABSOLUTELY FREE!\n\nWhat to expect:🛍️ 30+ Local Vendors & Artists 🎨 Interactive ART Workshops & Installations  Delicious Food & Drinks\, All-Ages Fun! \n \n🔮 Special Feature: Get a glimpse into your future with Tarot Readings available in both English and Spanish! 🇪🇸🇨🇦 \nCome support local artists and find something truly unique. See you in the shade! 🌿 \n#EtobicokeEvents #LocalMarket #SummerAndShade #TorontoArtists #TarotReading #MarketDay #EtobicokeArt
URL:https://nowtoronto.com/event/the-summer-and-shade-community-market/
LOCATION:57 Mabelle Avenue\, 57 Mabelle Ave\, Etobicoke\, ON M9A 4Y5\, Canada\, Etobicoke\, Toronto\, Ontario\, M9A 4Y5
CATEGORIES:Classes & Workshops,Community Events,Festivals,Markets
ATTACH;FMTTYPE=image/png:https://nowtoronto.com/wp-content/uploads/2026/02/the-summer-and-shade-community-market.png
END:VEVENT
END:VCALENDAR