BEGIN:VCALENDAR
VERSION:2.0
PRODID:-//NOW Toronto - ECPv6.15.20//NONSGML v1.0//EN
CALSCALE:GREGORIAN
METHOD:PUBLISH
X-ORIGINAL-URL:https://nowtoronto.com
X-WR-CALDESC:Events for NOW Toronto
REFRESH-INTERVAL;VALUE=DURATION:PT1H
X-Robots-Tag:noindex
X-PUBLISHED-TTL:PT1H
BEGIN:VTIMEZONE
TZID:America/Toronto
BEGIN:DAYLIGHT
TZOFFSETFROM:-0500
TZOFFSETTO:-0400
TZNAME:EDT
DTSTART:20250309T070000
END:DAYLIGHT
BEGIN:STANDARD
TZOFFSETFROM:-0400
TZOFFSETTO:-0500
TZNAME:EST
DTSTART:20251102T060000
END:STANDARD
BEGIN:DAYLIGHT
TZOFFSETFROM:-0500
TZOFFSETTO:-0400
TZNAME:EDT
DTSTART:20260308T070000
END:DAYLIGHT
BEGIN:STANDARD
TZOFFSETFROM:-0400
TZOFFSETTO:-0500
TZNAME:EST
DTSTART:20261101T060000
END:STANDARD
BEGIN:DAYLIGHT
TZOFFSETFROM:-0500
TZOFFSETTO:-0400
TZNAME:EDT
DTSTART:20270314T070000
END:DAYLIGHT
BEGIN:STANDARD
TZOFFSETFROM:-0400
TZOFFSETTO:-0500
TZNAME:EST
DTSTART:20271107T060000
END:STANDARD
END:VTIMEZONE
BEGIN:VEVENT
DTSTART;TZID=America/Toronto:20260619T213000
DTEND;TZID=America/Toronto:20260619T233000
DTSTAMP:20260423T230826
CREATED:20260423T130213Z
LAST-MODIFIED:20260423T130213Z
UID:10315110-1781904600-1781911800@nowtoronto.com
SUMMARY:NoSax NoClar & Robinson Khoury - MŸA
DESCRIPTION:NoSax NoClar & Robinson Khoury – MŸA \nCo-Presented by Luminato Festival and Alliance Française \n \nWitness a new wave of French jazz luminaries in a captivating double bill. \nTravel the world with NoSax NoClar\, a duo of globetrotting musicians who weave multicultural sounds into their smooth jazz grooves. With compositions that evoke cinematic landscapes through to smoky late-night jazz clubs\, saxophonist Bastien Weeger and beatboxer/clarinetist Julien Stella take you on a sonic journey. NoSax NoClar has been described as “a series of gripping constellations of rhythms and melody\, uniting and united in abundant flow and deep groove.” (All About Jazz) \nThe Robinson Khoury – MŸA ensemble blends jazz\, Middle Eastern chorus\, and electronic textures. Alongside Anissa Nehari on percussion and Leo Jassef on piano\, trombonist Robinson Khoury draws listeners into a world of intricate trombone lines\, hypnotic vocals\, genre-bending synths\, and grounding percussion. Having performed with renowned ensembles such as Metropole Orkest and the Quincy Jones Orchestra\, Khoury’s dynamic sound earned him the Django Reinhardt Prize in 2024\, as well as multiple music award nominations.
URL:https://nowtoronto.com/event/nosax-noclar-robinson-khoury-mya/
LOCATION:Alliance Francaise Toronto – Downtown Campus\, 360A Bloor Street West P.O. Box 68585 P.O. Box 68585\, Old Toronto\, Toronto\, Ontario\, M5R 2S7
CATEGORIES:Live Music
ATTACH;FMTTYPE=image/png:https://nowtoronto.com/wp-content/uploads/2026/04/nosax-noclar-robinson-khoury-mya.png
END:VEVENT
END:VCALENDAR