BEGIN:VCALENDAR
VERSION:2.0
PRODID:-//NOW Toronto - ECPv6.15.20//NONSGML v1.0//EN
CALSCALE:GREGORIAN
METHOD:PUBLISH
X-ORIGINAL-URL:https://nowtoronto.com
X-WR-CALDESC:Events for NOW Toronto
REFRESH-INTERVAL;VALUE=DURATION:PT1H
X-Robots-Tag:noindex
X-PUBLISHED-TTL:PT1H
BEGIN:VTIMEZONE
TZID:America/Toronto
BEGIN:DAYLIGHT
TZOFFSETFROM:-0500
TZOFFSETTO:-0400
TZNAME:EDT
DTSTART:20260308T070000
END:DAYLIGHT
BEGIN:STANDARD
TZOFFSETFROM:-0400
TZOFFSETTO:-0500
TZNAME:EST
DTSTART:20261101T060000
END:STANDARD
BEGIN:DAYLIGHT
TZOFFSETFROM:-0500
TZOFFSETTO:-0400
TZNAME:EDT
DTSTART:20270314T070000
END:DAYLIGHT
BEGIN:STANDARD
TZOFFSETFROM:-0400
TZOFFSETTO:-0500
TZNAME:EST
DTSTART:20271107T060000
END:STANDARD
BEGIN:DAYLIGHT
TZOFFSETFROM:-0500
TZOFFSETTO:-0400
TZNAME:EDT
DTSTART:20280312T070000
END:DAYLIGHT
BEGIN:STANDARD
TZOFFSETFROM:-0400
TZOFFSETTO:-0500
TZNAME:EST
DTSTART:20281105T060000
END:STANDARD
END:VTIMEZONE
BEGIN:VEVENT
DTSTART;TZID=America/Toronto:20270618T193000
DTEND;TZID=America/Toronto:20270620T154500
DTSTAMP:20260421T041047
CREATED:20260420T130145Z
LAST-MODIFIED:20260420T130145Z
UID:10310439-1813347000-1813506300@nowtoronto.com
SUMMARY:Come Closer
DESCRIPTION:The Canadian Opera Company Theatre (227 Front Street East) hosts the world premiere of Come Closer by composer Ryan Trew and librettist\, soprano\, and COC Company-in-Residence Opera 5 Co-Founder Rachel Krehm. This moving meditation on grief is based on Krehm’s personal experience of losing her sister\, Elizabeth\, following the character of Big Sister (Krehm) through a series of waking dreams inspired by Little Sister’s (soprano Jacqueline Woodley) poetry as she tries to understand who her sister was and how to move forward after profound loss. Conductor Evan Mitchell leads members of the COC Orchestra through Trews’ lyrical score.
URL:https://nowtoronto.com/event/come-closer/
LOCATION:Canadian Opera Company Theatre\, 227 Front St E\, Toronto\, ON M5A 1E8\, Canada\, Old Toronto\, Toronto\, Ontario\, M5A 1E8
CATEGORIES:Live Music,Performing Arts,Theatre & Opera
ATTACH;FMTTYPE=image/png:https://nowtoronto.com/wp-content/uploads/2026/03/come-closer.png
END:VEVENT
END:VCALENDAR