BEGIN:VCALENDAR
VERSION:2.0
PRODID:-//NOW Toronto - ECPv6.15.20//NONSGML v1.0//EN
CALSCALE:GREGORIAN
METHOD:PUBLISH
X-ORIGINAL-URL:https://nowtoronto.com
X-WR-CALDESC:Events for NOW Toronto
REFRESH-INTERVAL;VALUE=DURATION:PT1H
X-Robots-Tag:noindex
X-PUBLISHED-TTL:PT1H
BEGIN:VTIMEZONE
TZID:America/Toronto
BEGIN:DAYLIGHT
TZOFFSETFROM:-0500
TZOFFSETTO:-0400
TZNAME:EDT
DTSTART:20250309T070000
END:DAYLIGHT
BEGIN:STANDARD
TZOFFSETFROM:-0400
TZOFFSETTO:-0500
TZNAME:EST
DTSTART:20251102T060000
END:STANDARD
BEGIN:DAYLIGHT
TZOFFSETFROM:-0500
TZOFFSETTO:-0400
TZNAME:EDT
DTSTART:20260308T070000
END:DAYLIGHT
BEGIN:STANDARD
TZOFFSETFROM:-0400
TZOFFSETTO:-0500
TZNAME:EST
DTSTART:20261101T060000
END:STANDARD
BEGIN:DAYLIGHT
TZOFFSETFROM:-0500
TZOFFSETTO:-0400
TZNAME:EDT
DTSTART:20270314T070000
END:DAYLIGHT
BEGIN:STANDARD
TZOFFSETFROM:-0400
TZOFFSETTO:-0500
TZNAME:EST
DTSTART:20271107T060000
END:STANDARD
END:VTIMEZONE
BEGIN:VEVENT
DTSTART;TZID=America/Toronto:20260426T170000
DTEND;TZID=America/Toronto:20260426T190000
DTSTAMP:20260425T094633
CREATED:20260425T130020Z
LAST-MODIFIED:20260425T130020Z
UID:10317785-1777222800-1777230000@nowtoronto.com
SUMMARY:Opera Revue at Granite Brewery
DESCRIPTION:Opera meets pints in the most unexpected—and delightful—way. On April 26th\, Opera Revue brings an eclectic mix of opera\, art song\, musical theatre\, and comedy to Granite Brewery. Powerful voices\, playful storytelling\, and a relaxed\, cabaret-style vibe—all paired perfectly with craft beer in an intimate setting. Where high art and cold brews collide.
URL:https://nowtoronto.com/event/opera-revue-at-granite-brewery-4/
LOCATION:Granite Brewery & Tied House\, 245 Eglinton Avenue East\, Toronto
CATEGORIES:Live Music,Performing Arts,Theatre & Opera
ATTACH;FMTTYPE=image/png:https://nowtoronto.com/wp-content/uploads/2026/04/opera-revue-at-granite-brewery.png
END:VEVENT
END:VCALENDAR