BEGIN:VCALENDAR
VERSION:2.0
PRODID:-//NOW Toronto - ECPv6.15.20//NONSGML v1.0//EN
CALSCALE:GREGORIAN
METHOD:PUBLISH
X-ORIGINAL-URL:https://nowtoronto.com
X-WR-CALDESC:Events for NOW Toronto
REFRESH-INTERVAL;VALUE=DURATION:PT1H
X-Robots-Tag:noindex
X-PUBLISHED-TTL:PT1H
BEGIN:VTIMEZONE
TZID:America/Toronto
BEGIN:DAYLIGHT
TZOFFSETFROM:-0500
TZOFFSETTO:-0400
TZNAME:EDT
DTSTART:20250309T070000
END:DAYLIGHT
BEGIN:STANDARD
TZOFFSETFROM:-0400
TZOFFSETTO:-0500
TZNAME:EST
DTSTART:20251102T060000
END:STANDARD
BEGIN:DAYLIGHT
TZOFFSETFROM:-0500
TZOFFSETTO:-0400
TZNAME:EDT
DTSTART:20260308T070000
END:DAYLIGHT
BEGIN:STANDARD
TZOFFSETFROM:-0400
TZOFFSETTO:-0500
TZNAME:EST
DTSTART:20261101T060000
END:STANDARD
BEGIN:DAYLIGHT
TZOFFSETFROM:-0500
TZOFFSETTO:-0400
TZNAME:EDT
DTSTART:20270314T070000
END:DAYLIGHT
BEGIN:STANDARD
TZOFFSETFROM:-0400
TZOFFSETTO:-0500
TZNAME:EST
DTSTART:20271107T060000
END:STANDARD
END:VTIMEZONE
BEGIN:VEVENT
DTSTART;TZID=America/Toronto:20260430T180000
DTEND;TZID=America/Toronto:20260430T200000
DTSTAMP:20260421T144301
CREATED:20260421T130032Z
LAST-MODIFIED:20260421T130032Z
UID:10310747-1777572000-1777579200@nowtoronto.com
SUMMARY:Guerlain Spa Wellness Event
DESCRIPTION:Taking place this spring at Hotel X Toronto\, Guerlain Spa and 10XTO Athletic Club are coming together for an intimate evening of wellness renewal. \n \nSet in New Fort Hall\, the experience is designed for a seasonal reset\, blending fragrance\, skincare\, and mindful movement in a calm\, elevated setting. \n \nWhat to expect: \n\nGuided olfactory journey through Guerlain’s L’Art & La Matiere collection\nSkin self-message workshop\nRestorative flow and singing bowl meditation\nPersonalized skin and fragrance consultation with take-home gifts.\n\n \nTake part in a gentle reset for spring. Tickets are $50 at https://www.spa.hotelxtoronto.com/wellness-event-toronto
URL:https://nowtoronto.com/event/guerlain-spa-wellness-event/
LOCATION:Guerlain Spa at Hotel X Toronto\, 111 Princes' Blvd\, Toronto\, ON M6K 3C3\, Canada\, Old Toronto\, Toronto\, Ontario\, M6K 3C3
CATEGORIES:Fitness & Wellness
ATTACH;FMTTYPE=image/png:https://nowtoronto.com/wp-content/uploads/2026/04/guerlain-spa-wellness-event.png
END:VEVENT
BEGIN:VEVENT
DTSTART;TZID=America/Toronto:20260430T180000
DTEND;TZID=America/Toronto:20260430T210000
DTSTAMP:20260421T144301
CREATED:20260421T130034Z
LAST-MODIFIED:20260421T130034Z
UID:10310751-1777572000-1777582800@nowtoronto.com
SUMMARY:ARCHSPIRE - LONG ROADS BIG LOADS TOUR
DESCRIPTION:.
URL:https://nowtoronto.com/event/archspire-long-roads-big-loads-tour/
LOCATION:Guerlain Spa at Hotel X Toronto\, 111 Princes' Blvd\, Toronto\, ON M6K 3C3\, Canada\, Old Toronto\, Toronto\, Ontario\, M6K 3C3
CATEGORIES:Live Music
ATTACH;FMTTYPE=image/jpeg:https://nowtoronto.com/wp-content/uploads/2026/03/archspire-long-roads-big-loads-tour.jpg
END:VEVENT
BEGIN:VEVENT
DTSTART;TZID=America/Toronto:20260505T183000
DTEND;TZID=America/Toronto:20260505T210000
DTSTAMP:20260421T144301
CREATED:20260421T130044Z
LAST-MODIFIED:20260421T130044Z
UID:10310887-1778005800-1778014800@nowtoronto.com
SUMMARY:Corrosion of Conformity\, Whores
DESCRIPTION:.
URL:https://nowtoronto.com/event/corrosion-of-conformity-whores/
LOCATION:Guerlain Spa at Hotel X Toronto\, 111 Princes' Blvd\, Toronto\, ON M6K 3C3\, Canada\, Old Toronto\, Toronto\, Ontario\, M6K 3C3
CATEGORIES:Live Music
ATTACH;FMTTYPE=image/jpeg:https://nowtoronto.com/wp-content/uploads/2026/03/corrosion-of-conformity-whores.jpg
END:VEVENT
BEGIN:VEVENT
DTSTART;TZID=America/Toronto:20260522T200000
DTEND;TZID=America/Toronto:20260522T210000
DTSTAMP:20260421T144301
CREATED:20260421T130111Z
LAST-MODIFIED:20260421T130111Z
UID:10311231-1779480000-1779483600@nowtoronto.com
SUMMARY:Chet Faker
DESCRIPTION:.
URL:https://nowtoronto.com/event/chet-faker/
LOCATION:Guerlain Spa at Hotel X Toronto\, 111 Princes' Blvd\, Toronto\, ON M6K 3C3\, Canada\, Old Toronto\, Toronto\, Ontario\, M6K 3C3
CATEGORIES:Live Music
ATTACH;FMTTYPE=image/jpeg:https://nowtoronto.com/wp-content/uploads/2026/03/chet-faker.jpg
END:VEVENT
BEGIN:VEVENT
DTSTART;TZID=America/Toronto:20260530T200000
DTEND;TZID=America/Toronto:20260530T210000
DTSTAMP:20260421T144301
CREATED:20260421T130122Z
LAST-MODIFIED:20260421T130122Z
UID:10311336-1780171200-1780174800@nowtoronto.com
SUMMARY:Q107 High School Reunion - Prom Edition
DESCRIPTION:.
URL:https://nowtoronto.com/event/q107-high-school-reunion-prom-edition/
LOCATION:Guerlain Spa at Hotel X Toronto\, 111 Princes' Blvd\, Toronto\, ON M6K 3C3\, Canada\, Old Toronto\, Toronto\, Ontario\, M6K 3C3
CATEGORIES:Live Music
ATTACH;FMTTYPE=image/jpeg:https://nowtoronto.com/wp-content/uploads/2026/04/q107-high-school-reunion-prom-edition.jpg
END:VEVENT
BEGIN:VEVENT
DTSTART;TZID=America/Toronto:20260609T180000
DTEND;TZID=America/Toronto:20260609T210000
DTSTAMP:20260421T144301
CREATED:20260421T130133Z
LAST-MODIFIED:20260421T130133Z
UID:10311455-1781028000-1781038800@nowtoronto.com
SUMMARY:Spite\, Emmure\, PSYCHO-FRAME\, Rev3rent
DESCRIPTION:.
URL:https://nowtoronto.com/event/spite-emmure-psycho-frame-rev3rent/
LOCATION:Guerlain Spa at Hotel X Toronto\, 111 Princes' Blvd\, Toronto\, ON M6K 3C3\, Canada\, Old Toronto\, Toronto\, Ontario\, M6K 3C3
CATEGORIES:Live Music
ATTACH;FMTTYPE=image/jpeg:https://nowtoronto.com/wp-content/uploads/2026/03/spite-emmure-psycho-frame-rev3rent.jpg
END:VEVENT
BEGIN:VEVENT
DTSTART;TZID=America/Toronto:20260613T190000
DTEND;TZID=America/Toronto:20260613T210000
DTSTAMP:20260421T144301
CREATED:20260421T130134Z
LAST-MODIFIED:20260421T130134Z
UID:10311494-1781377200-1781384400@nowtoronto.com
SUMMARY:Illscarlett - Celebrating 20 Years of EPdemic
DESCRIPTION:.
URL:https://nowtoronto.com/event/illscarlett-celebrating-20-years-of-epdemic-2/
LOCATION:Guerlain Spa at Hotel X Toronto\, 111 Princes' Blvd\, Toronto\, ON M6K 3C3\, Canada\, Old Toronto\, Toronto\, Ontario\, M6K 3C3
CATEGORIES:Live Music
ATTACH;FMTTYPE=image/jpeg:https://nowtoronto.com/wp-content/uploads/2026/03/illscarlett-celebrating-20-years-of-epdemic-1.jpg
END:VEVENT
BEGIN:VEVENT
DTSTART;TZID=America/Toronto:20260619T190000
DTEND;TZID=America/Toronto:20260619T210000
DTSTAMP:20260421T144301
CREATED:20260421T130137Z
LAST-MODIFIED:20260421T130137Z
UID:10311554-1781895600-1781902800@nowtoronto.com
SUMMARY:Supersonic - North America's Tribute To Oasis
DESCRIPTION:.
URL:https://nowtoronto.com/event/supersonic-north-americas-tribute-to-oasis-2/
LOCATION:Guerlain Spa at Hotel X Toronto\, 111 Princes' Blvd\, Toronto\, ON M6K 3C3\, Canada\, Old Toronto\, Toronto\, Ontario\, M6K 3C3
CATEGORIES:Live Music
ATTACH;FMTTYPE=image/jpeg:https://nowtoronto.com/wp-content/uploads/2026/03/supersonic-north-americas-tribute-to-oasis-1.jpg
END:VEVENT
BEGIN:VEVENT
DTSTART;TZID=America/Toronto:20260623T190000
DTEND;TZID=America/Toronto:20260623T200000
DTSTAMP:20260421T144301
CREATED:20260421T130138Z
LAST-MODIFIED:20260421T130138Z
UID:10311590-1782241200-1782244800@nowtoronto.com
SUMMARY:Enter Shikari: North America 2026
DESCRIPTION:.
URL:https://nowtoronto.com/event/enter-shikari-north-america-2026/
LOCATION:Guerlain Spa at Hotel X Toronto\, 111 Princes' Blvd\, Toronto\, ON M6K 3C3\, Canada\, Old Toronto\, Toronto\, Ontario\, M6K 3C3
CATEGORIES:Live Music
ATTACH;FMTTYPE=image/jpeg:https://nowtoronto.com/wp-content/uploads/2026/03/enter-shikari-north-america-2026.jpg
END:VEVENT
BEGIN:VEVENT
DTSTART;TZID=America/Toronto:20260704T170000
DTEND;TZID=America/Toronto:20260704T180000
DTSTAMP:20260421T144301
CREATED:20260421T130143Z
LAST-MODIFIED:20260421T130143Z
UID:10311700-1783184400-1783188000@nowtoronto.com
SUMMARY:idobi Radio Summer School
DESCRIPTION:.
URL:https://nowtoronto.com/event/idobi-radio-summer-school/
LOCATION:Guerlain Spa at Hotel X Toronto\, 111 Princes' Blvd\, Toronto\, ON M6K 3C3\, Canada\, Old Toronto\, Toronto\, Ontario\, M6K 3C3
CATEGORIES:Live Music
ATTACH;FMTTYPE=image/jpeg:https://nowtoronto.com/wp-content/uploads/2026/03/idobi-radio-summer-school.jpg
END:VEVENT
BEGIN:VEVENT
DTSTART;TZID=America/Toronto:20260710T190000
DTEND;TZID=America/Toronto:20260710T210000
DTSTAMP:20260421T144301
CREATED:20260421T130146Z
LAST-MODIFIED:20260421T130146Z
UID:10311728-1783710000-1783717200@nowtoronto.com
SUMMARY:Digable Planets
DESCRIPTION:.
URL:https://nowtoronto.com/event/digable-planets-2/
LOCATION:Guerlain Spa at Hotel X Toronto\, 111 Princes' Blvd\, Toronto\, ON M6K 3C3\, Canada\, Old Toronto\, Toronto\, Ontario\, M6K 3C3
CATEGORIES:Live Music
ATTACH;FMTTYPE=image/jpeg:https://nowtoronto.com/wp-content/uploads/2026/04/digable-planets.jpg
END:VEVENT
BEGIN:VEVENT
DTSTART;TZID=America/Toronto:20260718T200000
DTEND;TZID=America/Toronto:20260718T210000
DTSTAMP:20260421T144301
CREATED:20260421T130147Z
LAST-MODIFIED:20260421T130147Z
UID:10311768-1784404800-1784408400@nowtoronto.com
SUMMARY:Souls of Mischief
DESCRIPTION:.
URL:https://nowtoronto.com/event/souls-of-mischief/
LOCATION:Guerlain Spa at Hotel X Toronto\, 111 Princes' Blvd\, Toronto\, ON M6K 3C3\, Canada\, Old Toronto\, Toronto\, Ontario\, M6K 3C3
CATEGORIES:Live Music
ATTACH;FMTTYPE=image/jpeg:https://nowtoronto.com/wp-content/uploads/2026/04/souls-of-mischief.jpg
END:VEVENT
BEGIN:VEVENT
DTSTART;TZID=America/Toronto:20260723T160000
DTEND;TZID=America/Toronto:20260723T210000
DTSTAMP:20260421T144301
CREATED:20260421T130148Z
LAST-MODIFIED:20260421T130148Z
UID:10311793-1784822400-1784840400@nowtoronto.com
SUMMARY:Hatebreed - Summer Slaughter Tour 2026
DESCRIPTION:.
URL:https://nowtoronto.com/event/hatebreed-summer-slaughter-tour-2026/
LOCATION:Guerlain Spa at Hotel X Toronto\, 111 Princes' Blvd\, Toronto\, ON M6K 3C3\, Canada\, Old Toronto\, Toronto\, Ontario\, M6K 3C3
CATEGORIES:Live Music
ATTACH;FMTTYPE=image/jpeg:https://nowtoronto.com/wp-content/uploads/2026/03/hatebreed-summer-slaughter-tour-2026-1.jpg
END:VEVENT
BEGIN:VEVENT
DTSTART;TZID=America/Toronto:20260730T190000
DTEND;TZID=America/Toronto:20260730T200000
DTSTAMP:20260421T144301
CREATED:20260421T130149Z
LAST-MODIFIED:20260421T130149Z
UID:10311814-1785438000-1785441600@nowtoronto.com
SUMMARY:Wunderhorse - North America 2026
DESCRIPTION:.
URL:https://nowtoronto.com/event/wunderhorse-north-america-2026/
LOCATION:Guerlain Spa at Hotel X Toronto\, 111 Princes' Blvd\, Toronto\, ON M6K 3C3\, Canada\, Old Toronto\, Toronto\, Ontario\, M6K 3C3
CATEGORIES:Live Music
ATTACH;FMTTYPE=image/jpeg:https://nowtoronto.com/wp-content/uploads/2026/03/wunderhorse-north-america-2026-1.jpg
END:VEVENT
BEGIN:VEVENT
DTSTART;TZID=America/Toronto:20260820T190000
DTEND;TZID=America/Toronto:20260820T210000
DTSTAMP:20260421T144301
CREATED:20260421T130153Z
LAST-MODIFIED:20260421T130153Z
UID:10311903-1787252400-1787259600@nowtoronto.com
SUMMARY:boom 97.3 Boombox Live!
DESCRIPTION:.
URL:https://nowtoronto.com/event/boom-97-3-boombox-live/
LOCATION:Guerlain Spa at Hotel X Toronto\, 111 Princes' Blvd\, Toronto\, ON M6K 3C3\, Canada\, Old Toronto\, Toronto\, Ontario\, M6K 3C3
CATEGORIES:Live Music
ATTACH;FMTTYPE=image/jpeg:https://nowtoronto.com/wp-content/uploads/2026/04/boom-97-3-boombox-live.jpg
END:VEVENT
BEGIN:VEVENT
DTSTART;TZID=America/Toronto:20260909T190000
DTEND;TZID=America/Toronto:20260909T200000
DTSTAMP:20260421T144301
CREATED:20260421T130155Z
LAST-MODIFIED:20260421T130155Z
UID:10311962-1788980400-1788984000@nowtoronto.com
SUMMARY:Melanie C (19 and Over)
DESCRIPTION:.
URL:https://nowtoronto.com/event/melanie-c-19-and-over/
LOCATION:Guerlain Spa at Hotel X Toronto\, 111 Princes' Blvd\, Toronto\, ON M6K 3C3\, Canada\, Old Toronto\, Toronto\, Ontario\, M6K 3C3
CATEGORIES:Live Music
ATTACH;FMTTYPE=image/jpeg:https://nowtoronto.com/wp-content/uploads/2026/03/melanie-c-19-and-over-1.jpg
END:VEVENT
BEGIN:VEVENT
DTSTART;TZID=America/Toronto:20260909T190000
DTEND;TZID=America/Toronto:20260909T210000
DTSTAMP:20260421T144301
CREATED:20260421T130155Z
LAST-MODIFIED:20260421T130155Z
UID:10311966-1788980400-1788987600@nowtoronto.com
SUMMARY:Melanie C
DESCRIPTION:.
URL:https://nowtoronto.com/event/melanie-c/
LOCATION:Guerlain Spa at Hotel X Toronto\, 111 Princes' Blvd\, Toronto\, ON M6K 3C3\, Canada\, Old Toronto\, Toronto\, Ontario\, M6K 3C3
CATEGORIES:Live Music
ATTACH;FMTTYPE=image/jpeg:https://nowtoronto.com/wp-content/uploads/2026/03/melanie-c-1.jpg
END:VEVENT
BEGIN:VEVENT
DTSTART;TZID=America/Toronto:20260917T180000
DTEND;TZID=America/Toronto:20260917T190000
DTSTAMP:20260421T144301
CREATED:20260421T130157Z
LAST-MODIFIED:20260421T130157Z
UID:10312012-1789668000-1789671600@nowtoronto.com
SUMMARY:Hulvey - "Could Be Tonight" Tour
DESCRIPTION:.
URL:https://nowtoronto.com/event/hulvey-could-be-tonight-tour/
LOCATION:Guerlain Spa at Hotel X Toronto\, 111 Princes' Blvd\, Toronto\, ON M6K 3C3\, Canada\, Old Toronto\, Toronto\, Ontario\, M6K 3C3
CATEGORIES:Live Music
ATTACH;FMTTYPE=image/jpeg:https://nowtoronto.com/wp-content/uploads/2026/04/hulvey-could-be-tonight-tour.jpg
END:VEVENT
BEGIN:VEVENT
DTSTART;TZID=America/Toronto:20260918T200000
DTEND;TZID=America/Toronto:20260918T210000
DTSTAMP:20260421T144301
CREATED:20260421T130158Z
LAST-MODIFIED:20260421T130158Z
UID:10312018-1789761600-1789765200@nowtoronto.com
SUMMARY:Cabaret Voltaire: Final USA + Canada Tour
DESCRIPTION:.
URL:https://nowtoronto.com/event/cabaret-voltaire-final-usa-canada-tour/
LOCATION:Guerlain Spa at Hotel X Toronto\, 111 Princes' Blvd\, Toronto\, ON M6K 3C3\, Canada\, Old Toronto\, Toronto\, Ontario\, M6K 3C3
CATEGORIES:Live Music
ATTACH;FMTTYPE=image/jpeg:https://nowtoronto.com/wp-content/uploads/2026/03/cabaret-voltaire-final-usa-canada-tour.jpg
END:VEVENT
BEGIN:VEVENT
DTSTART;TZID=America/Toronto:20260919T180000
DTEND;TZID=America/Toronto:20260919T210000
DTSTAMP:20260421T144301
CREATED:20260421T130158Z
LAST-MODIFIED:20260421T130158Z
UID:10312022-1789840800-1789851600@nowtoronto.com
SUMMARY:Kamelot -  Dark Asylum World Tour
DESCRIPTION:.
URL:https://nowtoronto.com/event/kamelot-dark-asylum-world-tour/
LOCATION:Guerlain Spa at Hotel X Toronto\, 111 Princes' Blvd\, Toronto\, ON M6K 3C3\, Canada\, Old Toronto\, Toronto\, Ontario\, M6K 3C3
CATEGORIES:Live Music
ATTACH;FMTTYPE=image/jpeg:https://nowtoronto.com/wp-content/uploads/2026/03/kamelot-dark-asylum-world-tour.jpg
END:VEVENT
BEGIN:VEVENT
DTSTART;TZID=America/Toronto:20260922T183000
DTEND;TZID=America/Toronto:20260922T210000
DTSTAMP:20260421T144301
CREATED:20260421T130159Z
LAST-MODIFIED:20260421T130159Z
UID:10312037-1790101800-1790110800@nowtoronto.com
SUMMARY:Hammerfall - Freedom World Crusade 2026
DESCRIPTION:.
URL:https://nowtoronto.com/event/hammerfall-freedom-world-crusade-2026/
LOCATION:Guerlain Spa at Hotel X Toronto\, 111 Princes' Blvd\, Toronto\, ON M6K 3C3\, Canada\, Old Toronto\, Toronto\, Ontario\, M6K 3C3
CATEGORIES:Live Music
ATTACH;FMTTYPE=image/jpeg:https://nowtoronto.com/wp-content/uploads/2026/03/hammerfall-freedom-world-crusade-2026.jpg
END:VEVENT
END:VCALENDAR