BEGIN:VCALENDAR
VERSION:2.0
PRODID:-//NOW Toronto - ECPv6.15.20//NONSGML v1.0//EN
CALSCALE:GREGORIAN
METHOD:PUBLISH
X-ORIGINAL-URL:https://nowtoronto.com
X-WR-CALDESC:Events for NOW Toronto
REFRESH-INTERVAL;VALUE=DURATION:PT1H
X-Robots-Tag:noindex
X-PUBLISHED-TTL:PT1H
BEGIN:VTIMEZONE
TZID:America/Toronto
BEGIN:DAYLIGHT
TZOFFSETFROM:-0500
TZOFFSETTO:-0400
TZNAME:EDT
DTSTART:20250309T070000
END:DAYLIGHT
BEGIN:STANDARD
TZOFFSETFROM:-0400
TZOFFSETTO:-0500
TZNAME:EST
DTSTART:20251102T060000
END:STANDARD
BEGIN:DAYLIGHT
TZOFFSETFROM:-0500
TZOFFSETTO:-0400
TZNAME:EDT
DTSTART:20260308T070000
END:DAYLIGHT
BEGIN:STANDARD
TZOFFSETFROM:-0400
TZOFFSETTO:-0500
TZNAME:EST
DTSTART:20261101T060000
END:STANDARD
BEGIN:DAYLIGHT
TZOFFSETFROM:-0500
TZOFFSETTO:-0400
TZNAME:EDT
DTSTART:20270314T070000
END:DAYLIGHT
BEGIN:STANDARD
TZOFFSETFROM:-0400
TZOFFSETTO:-0500
TZNAME:EST
DTSTART:20271107T060000
END:STANDARD
END:VTIMEZONE
BEGIN:VEVENT
DTSTART;TZID=America/Toronto:20260509T110000
DTEND;TZID=America/Toronto:20260510T133000
DTSTAMP:20260425T072653
CREATED:20260424T130054Z
LAST-MODIFIED:20260424T130054Z
UID:10316338-1778324400-1778419800@nowtoronto.com
SUMMARY:Mother’s Day Food Tour 2026
DESCRIPTION:Moms have cooked countless delicious meals for us over the years—now it’s time to treat her to a mix of lunch and adventure on our Mother’s Day Food Tour\, where she’ll discover new favorites in one of Toronto’s most beloved neighborhoods. Kensington Market is a bustling neighbourhood home to an incredible mix of flavors\, and we’ve selected the most delicious for you to share together! Whether you’re chowing down on a savory pastry\, or enjoying a sweet dessert\, this tour is the perfect way to make unforgettable memories this Mother’s Day.
URL:https://nowtoronto.com/event/mothers-day-food-tour-2026/
LOCATION:Kensington Market\, Kensington Market\, Toronto\, ON M5T\, Canada\, Old Toronto\, Toronto\, Ontario\, M5T
CATEGORIES:Food & Drink,Tours
ATTACH;FMTTYPE=image/png:https://nowtoronto.com/wp-content/uploads/2026/04/mothers-day-food-tour-2026.png
END:VEVENT
BEGIN:VEVENT
DTSTART;TZID=America/Toronto:20260606T143000
DTEND;TZID=America/Toronto:20260719T173000
DTSTAMP:20260425T072653
CREATED:20260424T130122Z
LAST-MODIFIED:20260424T130122Z
UID:10316783-1780756200-1784482200@nowtoronto.com
SUMMARY:Soccer & Spice Food Tour
DESCRIPTION:Kick off World Cup season the Toronto way – by eating your way through our global food scene. On this limited-time food tour with insider tastes and tales\, you’ll taste how popular soccer nations cheer\, celebrate and fuel game-day energy. \nStep into Kensington Market and experience the buzz of Toronto’s famously multicultural neighbourhood – music spilling out of cafés\, the smell of fresh tortillas and spicy sizzling meat\, vibrant graffiti murals stretching along the streets. As you move from shop to shop\, each bite transports you to another stadium\, team\, and dish. One moment you’re tucking into the controversial classic from host country Canada\, the next you’re tasting the herby brightness behind fan-favourite Italy’s match-day food. \nWith hand-picked stops at the neighbourhood’s best local eateries\, you’ll skip the lines\, savour insider stories\, and uncover how immigrant communities shaped Kensington Market. By the end\, you’ll have travelled the world through your tastebuds\, wandered one of Toronto’s most unique districts\, and discovered flavours you won’t find on any other food tour. Gooooal!
URL:https://nowtoronto.com/event/soccer-spice-food-tour/
LOCATION:Kensington Market\, Kensington Market\, Toronto\, ON M5T\, Canada\, Old Toronto\, Toronto\, Ontario\, M5T
CATEGORIES:Food & Drink,Toronto26 (Soccer Celebration),Tours
ATTACH;FMTTYPE=image/png:https://nowtoronto.com/wp-content/uploads/2026/03/soccer-spice-food-tour.png
END:VEVENT
END:VCALENDAR