BEGIN:VCALENDAR
VERSION:2.0
PRODID:-//NOW Toronto - ECPv6.15.20//NONSGML v1.0//EN
CALSCALE:GREGORIAN
METHOD:PUBLISH
X-WR-CALNAME:NOW Toronto
X-ORIGINAL-URL:https://nowtoronto.com
X-WR-CALDESC:Events for NOW Toronto
REFRESH-INTERVAL;VALUE=DURATION:PT1H
X-Robots-Tag:noindex
X-PUBLISHED-TTL:PT1H
BEGIN:VTIMEZONE
TZID:America/Toronto
BEGIN:DAYLIGHT
TZOFFSETFROM:-0500
TZOFFSETTO:-0400
TZNAME:EDT
DTSTART:20250309T070000
END:DAYLIGHT
BEGIN:STANDARD
TZOFFSETFROM:-0400
TZOFFSETTO:-0500
TZNAME:EST
DTSTART:20251102T060000
END:STANDARD
BEGIN:DAYLIGHT
TZOFFSETFROM:-0500
TZOFFSETTO:-0400
TZNAME:EDT
DTSTART:20260308T070000
END:DAYLIGHT
BEGIN:STANDARD
TZOFFSETFROM:-0400
TZOFFSETTO:-0500
TZNAME:EST
DTSTART:20261101T060000
END:STANDARD
BEGIN:DAYLIGHT
TZOFFSETFROM:-0500
TZOFFSETTO:-0400
TZNAME:EDT
DTSTART:20270314T070000
END:DAYLIGHT
BEGIN:STANDARD
TZOFFSETFROM:-0400
TZOFFSETTO:-0500
TZNAME:EST
DTSTART:20271107T060000
END:STANDARD
END:VTIMEZONE
BEGIN:VEVENT
DTSTART;TZID=America/Toronto:20260424T190000
DTEND;TZID=America/Toronto:20260424T210000
DTSTAMP:20260424T142657
CREATED:20260424T130018Z
LAST-MODIFIED:20260424T130018Z
UID:10315888-1777057200-1777064400@nowtoronto.com
SUMMARY:UADA & MORTIIS - The Witches Of Dystopia Tour MMXXVI
DESCRIPTION:.
URL:https://nowtoronto.com/event/uada-mortiis-the-witches-of-dystopia-tour-mmxxvi/
LOCATION:Lee’s Palace\, 529 Bloor St W\, Toronto\, M5S 1Y5
CATEGORIES:Live Music
ATTACH;FMTTYPE=image/jpeg:https://nowtoronto.com/wp-content/uploads/2026/03/uada-mortiis-the-witches-of-dystopia-tour-mmxxvi.jpg
END:VEVENT
BEGIN:VEVENT
DTSTART;TZID=America/Toronto:20260425T210000
DTEND;TZID=America/Toronto:20260426T195959
DTSTAMP:20260424T142657
CREATED:20260424T130029Z
LAST-MODIFIED:20260424T130029Z
UID:10315981-1777150800-1777233599@nowtoronto.com
SUMMARY:BLOODRAVE
DESCRIPTION:.
URL:https://nowtoronto.com/event/bloodrave/
LOCATION:Lee’s Palace\, 529 Bloor St W\, Toronto\, M5S 1Y5
CATEGORIES:Live Music
ATTACH;FMTTYPE=image/jpeg:https://nowtoronto.com/wp-content/uploads/2026/03/bloodrave.jpg
END:VEVENT
BEGIN:VEVENT
DTSTART;TZID=America/Toronto:20260426T190000
DTEND;TZID=America/Toronto:20260426T210000
DTSTAMP:20260424T142657
CREATED:20260424T130029Z
LAST-MODIFIED:20260424T130029Z
UID:10315992-1777230000-1777237200@nowtoronto.com
SUMMARY:Master Boot Record
DESCRIPTION:.
URL:https://nowtoronto.com/event/master-boot-record/
LOCATION:Lee’s Palace\, 529 Bloor St W\, Toronto\, M5S 1Y5
CATEGORIES:Live Music
ATTACH;FMTTYPE=image/jpeg:https://nowtoronto.com/wp-content/uploads/2026/03/master-boot-record.jpg
END:VEVENT
BEGIN:VEVENT
DTSTART;TZID=America/Toronto:20260428T193000
DTEND;TZID=America/Toronto:20260428T210000
DTSTAMP:20260424T142657
CREATED:20260424T130033Z
LAST-MODIFIED:20260424T130033Z
UID:10316039-1777404600-1777410000@nowtoronto.com
SUMMARY:Jay Siegel’s Tokens w. Vanity Mirror & Christo Graham
DESCRIPTION:.
URL:https://nowtoronto.com/event/jay-siegels-tokens-w-vanity-mirror-christo-graham/
LOCATION:Lee’s Palace\, 529 Bloor St W\, Toronto\, M5S 1Y5
CATEGORIES:Live Music
ATTACH;FMTTYPE=image/jpeg:https://nowtoronto.com/wp-content/uploads/2026/03/jay-siegels-tokens-w-vanity-mirror-christo-graham.jpg
END:VEVENT
BEGIN:VEVENT
DTSTART;TZID=America/Toronto:20260429T200000
DTEND;TZID=America/Toronto:20260429T210000
DTSTAMP:20260424T142657
CREATED:20260424T130033Z
LAST-MODIFIED:20260424T130033Z
UID:10316055-1777492800-1777496400@nowtoronto.com
SUMMARY:Front Line Assembly with Shallow Waves
DESCRIPTION:.
URL:https://nowtoronto.com/event/front-line-assembly-with-shallow-waves/
LOCATION:Lee’s Palace\, 529 Bloor St W\, Toronto\, M5S 1Y5
CATEGORIES:Live Music
ATTACH;FMTTYPE=image/jpeg:https://nowtoronto.com/wp-content/uploads/2026/03/front-line-assembly-with-shallow-waves.jpg
END:VEVENT
BEGIN:VEVENT
DTSTART;TZID=America/Toronto:20260430T200000
DTEND;TZID=America/Toronto:20260430T210000
DTSTAMP:20260424T142657
CREATED:20260424T130038Z
LAST-MODIFIED:20260424T130038Z
UID:10316083-1777579200-1777582800@nowtoronto.com
SUMMARY:Mo Lowda with Special Guests
DESCRIPTION:.
URL:https://nowtoronto.com/event/mo-lowda-with-special-guests/
LOCATION:Lee’s Palace\, 529 Bloor St W\, Toronto\, M5S 1Y5
CATEGORIES:Live Music
ATTACH;FMTTYPE=image/jpeg:https://nowtoronto.com/wp-content/uploads/2026/03/mo-lowda-with-special-guests.jpg
END:VEVENT
BEGIN:VEVENT
DTSTART;TZID=America/Toronto:20260503T200000
DTEND;TZID=America/Toronto:20260503T210000
DTSTAMP:20260424T142657
CREATED:20260424T130046Z
LAST-MODIFIED:20260424T130046Z
UID:10316206-1777838400-1777842000@nowtoronto.com
SUMMARY:YT with Special Guests
DESCRIPTION:.
URL:https://nowtoronto.com/event/yt-with-special-guests/
LOCATION:Lee’s Palace\, 529 Bloor St W\, Toronto\, M5S 1Y5
CATEGORIES:Live Music
ATTACH;FMTTYPE=image/jpeg:https://nowtoronto.com/wp-content/uploads/2026/03/yt-with-special-guests-1.jpg
END:VEVENT
BEGIN:VEVENT
DTSTART;TZID=America/Toronto:20260505T200000
DTEND;TZID=America/Toronto:20260505T210000
DTSTAMP:20260424T142657
CREATED:20260424T130047Z
LAST-MODIFIED:20260424T130047Z
UID:10316224-1778011200-1778014800@nowtoronto.com
SUMMARY:CHUWI
DESCRIPTION:.
URL:https://nowtoronto.com/event/chuwi/
LOCATION:Lee’s Palace\, 529 Bloor St W\, Toronto\, M5S 1Y5
CATEGORIES:Live Music
ATTACH;FMTTYPE=image/jpeg:https://nowtoronto.com/wp-content/uploads/2026/03/chuwi.jpg
END:VEVENT
BEGIN:VEVENT
DTSTART;TZID=America/Toronto:20260506T190000
DTEND;TZID=America/Toronto:20260506T210000
DTSTAMP:20260424T142657
CREATED:20260424T130048Z
LAST-MODIFIED:20260424T130048Z
UID:10316242-1778094000-1778101200@nowtoronto.com
SUMMARY:Yumi Zouma
DESCRIPTION:.
URL:https://nowtoronto.com/event/yumi-zouma/
LOCATION:Lee’s Palace\, 529 Bloor St W\, Toronto\, M5S 1Y5
CATEGORIES:Live Music
ATTACH;FMTTYPE=image/jpeg:https://nowtoronto.com/wp-content/uploads/2026/03/yumi-zouma.jpg
END:VEVENT
BEGIN:VEVENT
DTSTART;TZID=America/Toronto:20260507T190000
DTEND;TZID=America/Toronto:20260507T210000
DTSTAMP:20260424T142657
CREATED:20260424T130051Z
LAST-MODIFIED:20260424T130051Z
UID:10316268-1778180400-1778187600@nowtoronto.com
SUMMARY:The Cribs
DESCRIPTION:.
URL:https://nowtoronto.com/event/the-cribs-2/
LOCATION:Lee’s Palace\, 529 Bloor St W\, Toronto\, M5S 1Y5
CATEGORIES:Live Music
ATTACH;FMTTYPE=image/jpeg:https://nowtoronto.com/wp-content/uploads/2026/03/the-cribs.jpg
END:VEVENT
BEGIN:VEVENT
DTSTART;TZID=America/Toronto:20260509T203000
DTEND;TZID=America/Toronto:20260510T010000
DTSTAMP:20260424T142657
CREATED:20260424T130055Z
LAST-MODIFIED:20260424T130055Z
UID:10316374-1778358600-1778374800@nowtoronto.com
SUMMARY:Departure 2026 + Exclaim! + Dine Alone Present: Chastity\, Cam Kahin\, and Smug LLC with Special Guests!
DESCRIPTION:.
URL:https://nowtoronto.com/event/departure-2026-exclaim-dine-alone-present-chastity-cam-kahin-and-smug-llc-with-special-guests/
LOCATION:Lee’s Palace\, 529 Bloor St W\, Toronto\, M5S 1Y5
CATEGORIES:Live Music
ATTACH;FMTTYPE=image/jpeg:https://nowtoronto.com/wp-content/uploads/2026/03/departure-2026-exclaim-dine-alone-present-chastity-cam-kahin-and-smug-llc-with-special-guests.jpg
END:VEVENT
BEGIN:VEVENT
DTSTART;TZID=America/Toronto:20260512T200000
DTEND;TZID=America/Toronto:20260512T210000
DTSTAMP:20260424T142657
CREATED:20260424T130057Z
LAST-MODIFIED:20260424T130057Z
UID:10316426-1778616000-1778619600@nowtoronto.com
SUMMARY:Autumn!
DESCRIPTION:.
URL:https://nowtoronto.com/event/autumn/
LOCATION:Lee’s Palace\, 529 Bloor St W\, Toronto\, M5S 1Y5
CATEGORIES:Live Music
ATTACH;FMTTYPE=image/jpeg:https://nowtoronto.com/wp-content/uploads/2026/03/autumn.jpg
END:VEVENT
BEGIN:VEVENT
DTSTART;TZID=America/Toronto:20260513T190000
DTEND;TZID=America/Toronto:20260513T200000
DTSTAMP:20260424T142657
CREATED:20260424T130058Z
LAST-MODIFIED:20260424T130058Z
UID:10316434-1778698800-1778702400@nowtoronto.com
SUMMARY:The Scratch
DESCRIPTION:.
URL:https://nowtoronto.com/event/the-scratch/
LOCATION:Lee’s Palace\, 529 Bloor St W\, Toronto\, M5S 1Y5
CATEGORIES:Live Music
ATTACH;FMTTYPE=image/png:https://nowtoronto.com/wp-content/uploads/2026/03/the-scratch.png
END:VEVENT
BEGIN:VEVENT
DTSTART;TZID=America/Toronto:20260514T200000
DTEND;TZID=America/Toronto:20260514T210000
DTSTAMP:20260424T142657
CREATED:20260424T130058Z
LAST-MODIFIED:20260424T130058Z
UID:10316447-1778788800-1778792400@nowtoronto.com
SUMMARY:Dumbo Gets Mad with Charlie Chimi
DESCRIPTION:.
URL:https://nowtoronto.com/event/dumbo-gets-mad-with-charlie-chimi/
LOCATION:Lee’s Palace\, 529 Bloor St W\, Toronto\, M5S 1Y5
CATEGORIES:Live Music
ATTACH;FMTTYPE=image/jpeg:https://nowtoronto.com/wp-content/uploads/2026/03/dumbo-gets-mad-with-charlie-chimi.jpg
END:VEVENT
BEGIN:VEVENT
DTSTART;TZID=America/Toronto:20260515T210000
DTEND;TZID=America/Toronto:20260516T195959
DTSTAMP:20260424T142657
CREATED:20260424T130100Z
LAST-MODIFIED:20260424T130100Z
UID:10316486-1778878800-1778961599@nowtoronto.com
SUMMARY:The Anti-Queens: Road to Pouzza with Make War & Iron Roses
DESCRIPTION:.
URL:https://nowtoronto.com/event/the-anti-queens-road-to-pouzza-with-make-war-iron-roses/
LOCATION:Lee’s Palace\, 529 Bloor St W\, Toronto\, M5S 1Y5
CATEGORIES:Live Music
ATTACH;FMTTYPE=image/jpeg:https://nowtoronto.com/wp-content/uploads/2026/03/the-anti-queens-road-to-pouzza-with-make-war-iron-roses.jpg
END:VEVENT
BEGIN:VEVENT
DTSTART;TZID=America/Toronto:20260515T220000
DTEND;TZID=America/Toronto:20260515T210000
DTSTAMP:20260424T142657
CREATED:20260424T130059Z
LAST-MODIFIED:20260424T130059Z
UID:10316470-1778882400-1778878800@nowtoronto.com
SUMMARY:The Weeknd Night
DESCRIPTION:.
URL:https://nowtoronto.com/event/the-weeknd-night/
LOCATION:Lee’s Palace\, 529 Bloor St W\, Toronto\, M5S 1Y5
CATEGORIES:Live Music
ATTACH;FMTTYPE=image/jpeg:https://nowtoronto.com/wp-content/uploads/2026/04/the-weeknd-night.jpg
END:VEVENT
BEGIN:VEVENT
DTSTART;TZID=America/Toronto:20260516T210000
DTEND;TZID=America/Toronto:20260517T195959
DTSTAMP:20260424T142657
CREATED:20260424T130104Z
LAST-MODIFIED:20260424T130104Z
UID:10316523-1778965200-1779047999@nowtoronto.com
SUMMARY:Children of Metal with Full Throttle & Ovary Axe
DESCRIPTION:.
URL:https://nowtoronto.com/event/children-of-metal-with-full-throttle-ovary-axe/
LOCATION:Lee’s Palace\, 529 Bloor St W\, Toronto\, M5S 1Y5
CATEGORIES:Live Music
ATTACH;FMTTYPE=image/jpeg:https://nowtoronto.com/wp-content/uploads/2026/03/children-of-metal-with-full-throttle-ovary-axe.jpg
END:VEVENT
BEGIN:VEVENT
DTSTART;TZID=America/Toronto:20260517T200000
DTEND;TZID=America/Toronto:20260517T210000
DTSTAMP:20260424T142657
CREATED:20260424T130106Z
LAST-MODIFIED:20260424T130106Z
UID:10316536-1779048000-1779051600@nowtoronto.com
SUMMARY:POiSON GiRlFRIEND with OURI
DESCRIPTION:.
URL:https://nowtoronto.com/event/poison-girlfriend-with-ouri/
LOCATION:Lee’s Palace\, 529 Bloor St W\, Toronto\, M5S 1Y5
CATEGORIES:Live Music
ATTACH;FMTTYPE=image/jpeg:https://nowtoronto.com/wp-content/uploads/2026/03/poison-girlfriend-with-ouri.jpg
END:VEVENT
BEGIN:VEVENT
DTSTART;TZID=America/Toronto:20260522T203000
DTEND;TZID=America/Toronto:20260522T210000
DTSTAMP:20260424T142657
CREATED:20260424T130110Z
LAST-MODIFIED:20260424T130110Z
UID:10316588-1779481800-1779483600@nowtoronto.com
SUMMARY:Leah Jane with Special Guests Nyre & Gaeln
DESCRIPTION:.
URL:https://nowtoronto.com/event/leah-jane-with-special-guests-nyre-gaeln/
LOCATION:Lee’s Palace\, 529 Bloor St W\, Toronto\, M5S 1Y5
CATEGORIES:Live Music
ATTACH;FMTTYPE=image/jpeg:https://nowtoronto.com/wp-content/uploads/2026/03/leah-jane-with-special-guests-nyre-gaeln-1.jpg
END:VEVENT
BEGIN:VEVENT
DTSTART;TZID=America/Toronto:20260523T210000
DTEND;TZID=America/Toronto:20260524T195959
DTSTAMP:20260424T142657
CREATED:20260424T130112Z
LAST-MODIFIED:20260424T130112Z
UID:10316631-1779570000-1779652799@nowtoronto.com
SUMMARY:Ceol Kids Annual Fundraiser for the Community Music Schools of Toronto
DESCRIPTION:.
URL:https://nowtoronto.com/event/ceol-kids-annual-fundraiser-for-the-community-music-schools-of-toronto/
LOCATION:Lee’s Palace\, 529 Bloor St W\, Toronto\, M5S 1Y5
CATEGORIES:Tours
ATTACH;FMTTYPE=image/jpeg:https://nowtoronto.com/wp-content/uploads/2026/03/ceol-kids-annual-fundraiser-for-the-community-music-schools-of-toronto-1.jpg
END:VEVENT
BEGIN:VEVENT
DTSTART;TZID=America/Toronto:20260524T170000
DTEND;TZID=America/Toronto:20260524T210000
DTSTAMP:20260424T142657
CREATED:20260424T130112Z
LAST-MODIFIED:20260424T130112Z
UID:10316635-1779642000-1779656400@nowtoronto.com
SUMMARY:Nick Fest 2026
DESCRIPTION:.
URL:https://nowtoronto.com/event/nick-fest-2026/
LOCATION:Lee’s Palace\, 529 Bloor St W\, Toronto\, M5S 1Y5
CATEGORIES:Live Music
ATTACH;FMTTYPE=image/jpeg:https://nowtoronto.com/wp-content/uploads/2026/04/nick-fest-2026.jpg
END:VEVENT
BEGIN:VEVENT
DTSTART;TZID=America/Toronto:20260526T200000
DTEND;TZID=America/Toronto:20260526T210000
DTSTAMP:20260424T142657
CREATED:20260424T130113Z
LAST-MODIFIED:20260424T130113Z
UID:10316654-1779825600-1779829200@nowtoronto.com
SUMMARY:Punk Rock Factory with Special Guests
DESCRIPTION:.
URL:https://nowtoronto.com/event/punk-rock-factory-with-special-guests/
LOCATION:Lee’s Palace\, 529 Bloor St W\, Toronto\, M5S 1Y5
CATEGORIES:Live Music
ATTACH;FMTTYPE=image/jpeg:https://nowtoronto.com/wp-content/uploads/2026/03/punk-rock-factory-with-special-guests.jpg
END:VEVENT
BEGIN:VEVENT
DTSTART;TZID=America/Toronto:20260527T183000
DTEND;TZID=America/Toronto:20260527T210000
DTSTAMP:20260424T142657
CREATED:20260424T130114Z
LAST-MODIFIED:20260424T130114Z
UID:10316660-1779906600-1779915600@nowtoronto.com
SUMMARY:THE DECIBEL MAGAZINE TOUR 2026
DESCRIPTION:.
URL:https://nowtoronto.com/event/the-decibel-magazine-tour-2026/
LOCATION:Lee’s Palace\, 529 Bloor St W\, Toronto\, M5S 1Y5
CATEGORIES:Live Music
ATTACH;FMTTYPE=image/jpeg:https://nowtoronto.com/wp-content/uploads/2026/03/the-decibel-magazine-tour-2026.jpg
END:VEVENT
BEGIN:VEVENT
DTSTART;TZID=America/Toronto:20260528T200000
DTEND;TZID=America/Toronto:20260528T210000
DTSTAMP:20260424T142657
CREATED:20260424T130114Z
LAST-MODIFIED:20260424T130114Z
UID:10316667-1779998400-1780002000@nowtoronto.com
SUMMARY:The Black Queen: Fever Daydream 10 Year Anniversary
DESCRIPTION:.
URL:https://nowtoronto.com/event/the-black-queen-fever-daydream-10-year-anniversary/
LOCATION:Lee’s Palace\, 529 Bloor St W\, Toronto\, M5S 1Y5
CATEGORIES:Live Music
ATTACH;FMTTYPE=image/jpeg:https://nowtoronto.com/wp-content/uploads/2026/03/the-black-queen-fever-daydream-10-year-anniversary.jpg
END:VEVENT
BEGIN:VEVENT
DTSTART;TZID=America/Toronto:20260602T190000
DTEND;TZID=America/Toronto:20260602T210000
DTSTAMP:20260424T142657
CREATED:20260424T130117Z
LAST-MODIFIED:20260424T130117Z
UID:10316725-1780426800-1780434000@nowtoronto.com
SUMMARY:Napalm Death\, Primitive Man
DESCRIPTION:.
URL:https://nowtoronto.com/event/napalm-death-primitive-man/
LOCATION:Lee’s Palace\, 529 Bloor St W\, Toronto\, M5S 1Y5
CATEGORIES:Live Music
ATTACH;FMTTYPE=image/jpeg:https://nowtoronto.com/wp-content/uploads/2026/03/napalm-death-primitive-man.jpg
END:VEVENT
BEGIN:VEVENT
DTSTART;TZID=America/Toronto:20260604T200000
DTEND;TZID=America/Toronto:20260604T210000
DTSTAMP:20260424T142657
CREATED:20260424T130119Z
LAST-MODIFIED:20260424T130119Z
UID:10316748-1780603200-1780606800@nowtoronto.com
SUMMARY:Lansdowne with Avalon Stone
DESCRIPTION:.
URL:https://nowtoronto.com/event/lansdowne-with-avalon-stone/
LOCATION:Lee’s Palace\, 529 Bloor St W\, Toronto\, M5S 1Y5
CATEGORIES:Live Music
ATTACH;FMTTYPE=image/jpeg:https://nowtoronto.com/wp-content/uploads/2026/03/lansdowne-with-avalon-stone.jpg
END:VEVENT
BEGIN:VEVENT
DTSTART;TZID=America/Toronto:20260605T210000
DTEND;TZID=America/Toronto:20260606T195959
DTSTAMP:20260424T142657
CREATED:20260424T130120Z
LAST-MODIFIED:20260424T130120Z
UID:10316776-1780693200-1780775999@nowtoronto.com
SUMMARY:The Listros - Into The Otherside Tour
DESCRIPTION:.
URL:https://nowtoronto.com/event/the-listros-into-the-otherside-tour/
LOCATION:Lee’s Palace\, 529 Bloor St W\, Toronto\, M5S 1Y5
CATEGORIES:Live Music
ATTACH;FMTTYPE=image/jpeg:https://nowtoronto.com/wp-content/uploads/2026/04/the-listros-into-the-otherside-tour.jpg
END:VEVENT
BEGIN:VEVENT
DTSTART;TZID=America/Toronto:20260606T210000
DTEND;TZID=America/Toronto:20260607T195959
DTSTAMP:20260424T142657
CREATED:20260424T130125Z
LAST-MODIFIED:20260424T130125Z
UID:10316809-1780779600-1780862399@nowtoronto.com
SUMMARY:VHOOR with Special Guests
DESCRIPTION:.
URL:https://nowtoronto.com/event/vhoor-with-special-guests/
LOCATION:Lee’s Palace\, 529 Bloor St W\, Toronto\, M5S 1Y5
CATEGORIES:Live Music
ATTACH;FMTTYPE=image/jpeg:https://nowtoronto.com/wp-content/uploads/2026/03/vhoor-with-special-guests-1.jpg
END:VEVENT
BEGIN:VEVENT
DTSTART;TZID=America/Toronto:20260612T200000
DTEND;TZID=America/Toronto:20260612T210000
DTSTAMP:20260424T142657
CREATED:20260424T130127Z
LAST-MODIFIED:20260424T130127Z
UID:10316847-1781294400-1781298000@nowtoronto.com
SUMMARY:Covet
DESCRIPTION:.
URL:https://nowtoronto.com/event/covet/
LOCATION:Lee’s Palace\, 529 Bloor St W\, Toronto\, M5S 1Y5
CATEGORIES:Live Music
ATTACH;FMTTYPE=image/jpeg:https://nowtoronto.com/wp-content/uploads/2026/03/covet-1.jpg
END:VEVENT
BEGIN:VEVENT
DTSTART;TZID=America/Toronto:20260613T190000
DTEND;TZID=America/Toronto:20260613T210000
DTSTAMP:20260424T142657
CREATED:20260424T130128Z
LAST-MODIFIED:20260424T130128Z
UID:10316871-1781377200-1781384400@nowtoronto.com
SUMMARY:The Flashing Lights
DESCRIPTION:.
URL:https://nowtoronto.com/event/the-flashing-lights/
LOCATION:Lee’s Palace\, 529 Bloor St W\, Toronto\, M5S 1Y5
CATEGORIES:Live Music
ATTACH;FMTTYPE=image/jpeg:https://nowtoronto.com/wp-content/uploads/2026/04/the-flashing-lights.jpg
END:VEVENT
END:VCALENDAR