BEGIN:VCALENDAR
VERSION:2.0
PRODID:-//NOW Toronto - ECPv6.15.20//NONSGML v1.0//EN
CALSCALE:GREGORIAN
METHOD:PUBLISH
X-WR-CALNAME:NOW Toronto
X-ORIGINAL-URL:https://nowtoronto.com
X-WR-CALDESC:Events for NOW Toronto
REFRESH-INTERVAL;VALUE=DURATION:PT1H
X-Robots-Tag:noindex
X-PUBLISHED-TTL:PT1H
BEGIN:VTIMEZONE
TZID:America/Toronto
BEGIN:DAYLIGHT
TZOFFSETFROM:-0500
TZOFFSETTO:-0400
TZNAME:EDT
DTSTART:20250309T070000
END:DAYLIGHT
BEGIN:STANDARD
TZOFFSETFROM:-0400
TZOFFSETTO:-0500
TZNAME:EST
DTSTART:20251102T060000
END:STANDARD
BEGIN:DAYLIGHT
TZOFFSETFROM:-0500
TZOFFSETTO:-0400
TZNAME:EDT
DTSTART:20260308T070000
END:DAYLIGHT
BEGIN:STANDARD
TZOFFSETFROM:-0400
TZOFFSETTO:-0500
TZNAME:EST
DTSTART:20261101T060000
END:STANDARD
BEGIN:DAYLIGHT
TZOFFSETFROM:-0500
TZOFFSETTO:-0400
TZNAME:EDT
DTSTART:20270314T070000
END:DAYLIGHT
BEGIN:STANDARD
TZOFFSETFROM:-0400
TZOFFSETTO:-0500
TZNAME:EST
DTSTART:20271107T060000
END:STANDARD
END:VTIMEZONE
BEGIN:VEVENT
DTSTART;TZID=America/Toronto:20260821T130000
DTEND;TZID=America/Toronto:20260823T220000
DTSTAMP:20260421T044211
CREATED:20260420T130130Z
LAST-MODIFIED:20260420T130130Z
UID:10310161-1787317200-1787522400@nowtoronto.com
SUMMARY:TORONTO KOREAN FESTIVAL
DESCRIPTION:Since 2001\, the Toronto Korean Festival (TKF) has been held annually at Mel Lastman Square in North Toronto and has become one of Canada’s leading Korean cultural events. Formerly organized by Korean Canadian Business Association\, the festival is now continued by the newly established Korean Canadian Arts & Culture Festival Association\, welcoming visitors to experience Korean food\, music\, products\, and culture. \nThe Korean Canadian Arts & Culture Festival Association\, a non-profit organization\, was founded in 2025. With the motto\, “Bridging Korea and Canada Through Culture\,” the Korean Canadian Arts & Culture-Festival Association is dedicated to connecting Korea and Canada through art and culture. By sharing traditions and fostering creativity\, the organization aims to inspire mutual understanding and build lasting community connections through festivals\, performances\, and educational programs that celebrate Korean heritage and contemporary arts in CanadaThe Toronto Korean Festival aims to establish Willowdale in North Toronto as a key cultural hub and celebrate the global rise of Korean culture\, driven by K-dramas and K-pop. Since the pandemic\, the festival has featured Korean food\, goods markets\, traditional performances\, and K-pop concerts. \nIn 2025\, over 100\,000 people attended the festival to celebrate\, learn about\, and experience Korean culture. The 2025 festival continued to showcase Korean culture through K-pop\, K-dance\, K-food\, and K-beauty. Popular events such as the K-pop Singing Show\, K-pop Dance Competition\, and Chimaek (chicken + beer) Garden returned\, along with performances by idol groups\, dance teams\, and fusion bands. \nTKF 2026 promises even more excitement\, with artists from Korea and Canada\, and is expected to attract over 100\,000 visitors.
URL:https://nowtoronto.com/event/toronto-korean-festival/
LOCATION:Mel Lastman Square\, 5100 Yonge St\, North York\, Toronto\, Ontario\, M2N 5V7
CATEGORIES:Community Events,Festivals,Food & Drink,Markets
ATTACH;FMTTYPE=image/png:https://nowtoronto.com/wp-content/uploads/2026/04/toronto-korean-festival.png
END:VEVENT
BEGIN:VEVENT
DTSTART;TZID=America/Toronto:20260904T170000
DTEND;TZID=America/Toronto:20260907T200000
DTSTAMP:20260421T044211
CREATED:20260420T130132Z
LAST-MODIFIED:20260420T130132Z
UID:10310200-1788541200-1788811200@nowtoronto.com
SUMMARY:T.U. Jazz Fest 2026
DESCRIPTION:Canada’s biggest jazz festival for emerging artists\, T.U. Jazz Fest is celebrating its 12th annual festival at Mel Lastman Square on Labor Day weekend. Featuring over 130 equity-deserving musicians across North America and some of the JUNO and Grammy Award musicians\, TUJF will serve and inspire music lovers in the GTA and beyond. This year\, TUJF offers new additions: Late Night Jam-Session and Masterclasses
URL:https://nowtoronto.com/event/t-u-jazz-fest-2026/
LOCATION:Mel Lastman Square\, 5100 Yonge St\, North York\, Toronto\, Ontario\, M2N 5V7
CATEGORIES:Festivals,Live Music,Performing Arts
ATTACH;FMTTYPE=image/png:https://nowtoronto.com/wp-content/uploads/2026/04/t-u-jazz-fest-2026.png
END:VEVENT
END:VCALENDAR