BEGIN:VCALENDAR
VERSION:2.0
PRODID:-//NOW Toronto - ECPv6.15.20//NONSGML v1.0//EN
CALSCALE:GREGORIAN
METHOD:PUBLISH
X-ORIGINAL-URL:https://nowtoronto.com
X-WR-CALDESC:Events for NOW Toronto
REFRESH-INTERVAL;VALUE=DURATION:PT1H
X-Robots-Tag:noindex
X-PUBLISHED-TTL:PT1H
BEGIN:VTIMEZONE
TZID:America/Toronto
BEGIN:DAYLIGHT
TZOFFSETFROM:-0500
TZOFFSETTO:-0400
TZNAME:EDT
DTSTART:20250309T070000
END:DAYLIGHT
BEGIN:STANDARD
TZOFFSETFROM:-0400
TZOFFSETTO:-0500
TZNAME:EST
DTSTART:20251102T060000
END:STANDARD
BEGIN:DAYLIGHT
TZOFFSETFROM:-0500
TZOFFSETTO:-0400
TZNAME:EDT
DTSTART:20260308T070000
END:DAYLIGHT
BEGIN:STANDARD
TZOFFSETFROM:-0400
TZOFFSETTO:-0500
TZNAME:EST
DTSTART:20261101T060000
END:STANDARD
BEGIN:DAYLIGHT
TZOFFSETFROM:-0500
TZOFFSETTO:-0400
TZNAME:EDT
DTSTART:20270314T070000
END:DAYLIGHT
BEGIN:STANDARD
TZOFFSETFROM:-0400
TZOFFSETTO:-0500
TZNAME:EST
DTSTART:20271107T060000
END:STANDARD
END:VTIMEZONE
BEGIN:VEVENT
DTSTART;TZID=America/Toronto:20260429T200000
DTEND;TZID=America/Toronto:20260429T210000
DTSTAMP:20260424T172516
CREATED:20260424T130033Z
LAST-MODIFIED:20260424T130033Z
UID:10316058-1777492800-1777496400@nowtoronto.com
SUMMARY:The Magnificent Mazowsze
DESCRIPTION:.
URL:https://nowtoronto.com/event/the-magnificent-mazowsze/
LOCATION:Meridian Hall\, 1 Front St East\, Old Toronto\, Toronto\, Ontario\, M5E 1B2
CATEGORIES:Live Music
ATTACH;FMTTYPE=image/jpeg:https://nowtoronto.com/wp-content/uploads/2026/03/the-magnificent-mazowsze-1.jpg
END:VEVENT
BEGIN:VEVENT
DTSTART;TZID=America/Toronto:20260430T190000
DTEND;TZID=America/Toronto:20260430T200000
DTSTAMP:20260424T172516
CREATED:20260424T130036Z
LAST-MODIFIED:20260424T130036Z
UID:10316072-1777575600-1777579200@nowtoronto.com
SUMMARY:Nimesh Patel: With All Due Disrespect
DESCRIPTION:.
URL:https://nowtoronto.com/event/nimesh-patel-with-all-due-disrespect/
LOCATION:Meridian Hall\, 1 Front St East\, Old Toronto\, Toronto\, Ontario\, M5E 1B2
CATEGORIES:Film & Media
ATTACH;FMTTYPE=image/jpeg:https://nowtoronto.com/wp-content/uploads/2026/03/nimesh-patel-with-all-due-disrespect.jpg
END:VEVENT
BEGIN:VEVENT
DTSTART;TZID=America/Toronto:20260501T200000
DTEND;TZID=America/Toronto:20260501T210000
DTSTAMP:20260424T172516
CREATED:20260424T130039Z
LAST-MODIFIED:20260424T130039Z
UID:10316113-1777665600-1777669200@nowtoronto.com
SUMMARY:SANAM North American Tour 2026
DESCRIPTION:.
URL:https://nowtoronto.com/event/sanam-north-american-tour-2026/
LOCATION:Meridian Hall\, 1 Front St East\, Old Toronto\, Toronto\, Ontario\, M5E 1B2
CATEGORIES:Live Music
ATTACH;FMTTYPE=image/jpeg:https://nowtoronto.com/wp-content/uploads/2026/03/sanam-north-american-tour-2026.jpg
END:VEVENT
BEGIN:VEVENT
DTSTART;TZID=America/Toronto:20260502T130000
DTEND;TZID=America/Toronto:20260502T140000
DTSTAMP:20260424T172516
CREATED:20260424T130041Z
LAST-MODIFIED:20260424T130041Z
UID:10316131-1777726800-1777730400@nowtoronto.com
SUMMARY:Stomp Urban Dance Competition & Showcase
DESCRIPTION:.
URL:https://nowtoronto.com/event/stomp-urban-dance-competition-showcase/
LOCATION:Meridian Hall\, 1 Front St East\, Old Toronto\, Toronto\, Ontario\, M5E 1B2
CATEGORIES:Tours
ATTACH;FMTTYPE=image/jpeg:https://nowtoronto.com/wp-content/uploads/2026/03/stomp-urban-dance-competition-showcase-1.jpg
END:VEVENT
BEGIN:VEVENT
DTSTART;TZID=America/Toronto:20260508T193000
DTEND;TZID=America/Toronto:20260508T203000
DTSTAMP:20260424T172516
CREATED:20260424T130052Z
LAST-MODIFIED:20260424T130052Z
UID:10316298-1778268600-1778272200@nowtoronto.com
SUMMARY:Snow White On Ice
DESCRIPTION:.
URL:https://nowtoronto.com/event/snow-white-on-ice/
LOCATION:Meridian Hall\, 1 Front St East\, Old Toronto\, Toronto\, Ontario\, M5E 1B2
CATEGORIES:Tours
ATTACH;FMTTYPE=image/jpeg:https://nowtoronto.com/wp-content/uploads/2026/03/snow-white-on-ice.jpg
END:VEVENT
BEGIN:VEVENT
DTSTART;TZID=America/Toronto:20260508T193000
DTEND;TZID=America/Toronto:20260510T220000
DTSTAMP:20260424T172516
CREATED:20260424T130054Z
LAST-MODIFIED:20260424T130054Z
UID:10316345-1778268600-1778450400@nowtoronto.com
SUMMARY:Snow White On Ice
DESCRIPTION:Snow White on Ice combines breathtaking skating\, aerial acts\, and striking visuals with powerful storytelling. Starring Olympic champion Eric Radford\, this thrilling live spectacle is an unforgettable experience for families and audiences of all ages. \nPresented by F7 LIVE. \nFriday\, May 8\, 2026: 7:30 pmSaturday\, May 9\, 2026: 11 am\, 2:30 pm & 7:30 pmSunday\, May 10\, 2026: 11 am\, 2:30 pm & 7:30 pm
URL:https://nowtoronto.com/event/snow-white-on-ice-2/
LOCATION:Meridian Hall\, 1 Front St East\, Old Toronto\, Toronto\, Ontario\, M5E 1B2
CATEGORIES:Kids & Family,Performing Arts,Theatre & Opera
ATTACH;FMTTYPE=image/png:https://nowtoronto.com/wp-content/uploads/2026/02/snow-white-on-ice.png
END:VEVENT
BEGIN:VEVENT
DTSTART;TZID=America/Toronto:20260512T193000
DTEND;TZID=America/Toronto:20260512T203000
DTSTAMP:20260424T172516
CREATED:20260424T130057Z
LAST-MODIFIED:20260424T130057Z
UID:10316424-1778614200-1778617800@nowtoronto.com
SUMMARY:Sam Harris: Truth & Consequences
DESCRIPTION:.
URL:https://nowtoronto.com/event/sam-harris-truth-consequences/
LOCATION:Meridian Hall\, 1 Front St East\, Old Toronto\, Toronto\, Ontario\, M5E 1B2
CATEGORIES:Film & Media
ATTACH;FMTTYPE=image/jpeg:https://nowtoronto.com/wp-content/uploads/2026/03/sam-harris-truth-consequences.jpg
END:VEVENT
BEGIN:VEVENT
DTSTART;TZID=America/Toronto:20260513T193000
DTEND;TZID=America/Toronto:20260513T203000
DTSTAMP:20260424T172516
CREATED:20260424T130058Z
LAST-MODIFIED:20260424T130058Z
UID:10316437-1778700600-1778704200@nowtoronto.com
SUMMARY:Satchvai Band - Surfing With The Hydra 2026 Tour
DESCRIPTION:.
URL:https://nowtoronto.com/event/satchvai-band-surfing-with-the-hydra-2026-tour/
LOCATION:Meridian Hall\, 1 Front St East\, Old Toronto\, Toronto\, Ontario\, M5E 1B2
CATEGORIES:Live Music
ATTACH;FMTTYPE=image/jpeg:https://nowtoronto.com/wp-content/uploads/2026/03/satchvai-band-surfing-with-the-hydra-2026-tour.jpg
END:VEVENT
BEGIN:VEVENT
DTSTART;TZID=America/Toronto:20260514T190000
DTEND;TZID=America/Toronto:20260514T200000
DTSTAMP:20260424T172516
CREATED:20260424T130058Z
LAST-MODIFIED:20260424T130058Z
UID:10316444-1778785200-1778788800@nowtoronto.com
SUMMARY:Rangreza by A.R. Rahman & Rushil Ranjan
DESCRIPTION:.
URL:https://nowtoronto.com/event/rangreza-by-a-r-rahman-rushil-ranjan/
LOCATION:Meridian Hall\, 1 Front St East\, Old Toronto\, Toronto\, Ontario\, M5E 1B2
CATEGORIES:Live Music
ATTACH;FMTTYPE=image/jpeg:https://nowtoronto.com/wp-content/uploads/2026/03/rangreza-by-a-r-rahman-rushil-ranjan.jpg
END:VEVENT
BEGIN:VEVENT
DTSTART;TZID=America/Toronto:20260514T190000
DTEND;TZID=America/Toronto:20260514T230000
DTSTAMP:20260424T172516
CREATED:20260424T130059Z
LAST-MODIFIED:20260424T130059Z
UID:10316453-1778785200-1778799600@nowtoronto.com
SUMMARY:Rangreza by A.R. Rahman & Rushil Ranjan
DESCRIPTION:Toronto\, get ready to welcome A.R. Rahman to Meridian Hall for a night that feels like a hometown highlight. Rangreza by A.R. Rahman & Rushil Ranjan Toronto brings the city together for an unforgettable live experience. \nRahman’s sound is cinematic and intimate at once—layered rhythms\, soaring melodies\, and that unmistakable voice-led storytelling—brought to life with Rushil Ranjan’s rich orchestral direction. \nMeridian Hall sets the mood with excellent sightlines\, crisp acoustics\, and an easy-to-reach downtown location that makes arriving and leaving simple. Rangreza by A.R. Rahman & Rushil Ranjan Meridian Hall is made for music lovers who want to feel every note. \nMark your calendar for 5/14/2026 at 7:00 PM and book your seats early—this is one you’ll be talking about all season.
URL:https://nowtoronto.com/event/rangreza-by-a-r-rahman-rushil-ranjan-2/
LOCATION:Meridian Hall\, 1 Front St East\, Old Toronto\, Toronto\, Ontario\, M5E 1B2
CATEGORIES:Live Music
ATTACH;FMTTYPE=image/png:https://nowtoronto.com/wp-content/uploads/2026/03/rangreza-by-a-r-rahman-rushil-ranjan.png
END:VEVENT
BEGIN:VEVENT
DTSTART;TZID=America/Toronto:20260516T190000
DTEND;TZID=America/Toronto:20260516T200000
DTSTAMP:20260424T172516
CREATED:20260424T130100Z
LAST-MODIFIED:20260424T130100Z
UID:10316495-1778958000-1778961600@nowtoronto.com
SUMMARY:Sooshi Mango: The Home Made World Tour
DESCRIPTION:.
URL:https://nowtoronto.com/event/sooshi-mango-the-home-made-world-tour/
LOCATION:Meridian Hall\, 1 Front St East\, Old Toronto\, Toronto\, Ontario\, M5E 1B2
CATEGORIES:Film & Media
ATTACH;FMTTYPE=image/jpeg:https://nowtoronto.com/wp-content/uploads/2026/03/sooshi-mango-the-home-made-world-tour.jpg
END:VEVENT
BEGIN:VEVENT
DTSTART;TZID=America/Toronto:20260527T190000
DTEND;TZID=America/Toronto:20260527T200000
DTSTAMP:20260424T172516
CREATED:20260424T130113Z
LAST-MODIFIED:20260424T130113Z
UID:10316659-1779908400-1779912000@nowtoronto.com
SUMMARY:An Evening With Eckhart Tolle
DESCRIPTION:.
URL:https://nowtoronto.com/event/an-evening-with-eckhart-tolle/
LOCATION:Meridian Hall\, 1 Front St East\, Old Toronto\, Toronto\, Ontario\, M5E 1B2
CATEGORIES:Tours
ATTACH;FMTTYPE=image/jpeg:https://nowtoronto.com/wp-content/uploads/2026/03/an-evening-with-eckhart-tolle.jpg
END:VEVENT
BEGIN:VEVENT
DTSTART;TZID=America/Toronto:20260529T193000
DTEND;TZID=America/Toronto:20260529T203000
DTSTAMP:20260424T172516
CREATED:20260424T130114Z
LAST-MODIFIED:20260424T130114Z
UID:10316672-1780083000-1780086600@nowtoronto.com
SUMMARY:Top Gun: Maverick in Concert
DESCRIPTION:.
URL:https://nowtoronto.com/event/top-gun-maverick-in-concert/
LOCATION:Meridian Hall\, 1 Front St East\, Old Toronto\, Toronto\, Ontario\, M5E 1B2
CATEGORIES:Film & Media
ATTACH;FMTTYPE=image/jpeg:https://nowtoronto.com/wp-content/uploads/2026/03/top-gun-maverick-in-concert.jpg
END:VEVENT
BEGIN:VEVENT
DTSTART;TZID=America/Toronto:20260605T200000
DTEND;TZID=America/Toronto:20260605T210000
DTSTAMP:20260424T172516
CREATED:20260424T130119Z
LAST-MODIFIED:20260424T130119Z
UID:10316760-1780689600-1780693200@nowtoronto.com
SUMMARY:Penn & Teller - 50 Years of Magic
DESCRIPTION:.
URL:https://nowtoronto.com/event/penn-teller-50-years-of-magic-2/
LOCATION:Meridian Hall\, 1 Front St East\, Old Toronto\, Toronto\, Ontario\, M5E 1B2
CATEGORIES:Film & Media
ATTACH;FMTTYPE=image/jpeg:https://nowtoronto.com/wp-content/uploads/2026/03/penn-teller-50-years-of-magic.jpg
END:VEVENT
BEGIN:VEVENT
DTSTART;TZID=America/Toronto:20260606T200000
DTEND;TZID=America/Toronto:20260606T213000
DTSTAMP:20260424T172516
CREATED:20260424T130125Z
LAST-MODIFIED:20260424T130125Z
UID:10316798-1780776000-1780781400@nowtoronto.com
SUMMARY:Penn & Teller: 50 Years of Magic
DESCRIPTION:For more information: https://www.luminatofestival.com/PennTeller \nPENN & TELLER50 Years of MagicPresented by Luminato Festival & TO Live \nLimited meet-and-greet tickets are also available.🎟️ Dec 11: Amex Front of the Line Presale🎟️ Dec 12: Tickets on sale \nAmazing magic. Tremendous trickery. Hilarious antics.  \nGet ready to have your mind blown! The world’s most legendary magicians – Penn & Teller – celebrate their milestone anniversary with 50 Years of Magic. The celebrated duo will blend classic favourites with astonishing new illusions — all delivered with their trademark wit and showmanship for an unforgettable live experience.  \nStars of the Las Vegas strip\, Penn & Teller have earned a reputation as magic legends\, performing acts that are daring\, provocative and hilarious. Penn makes all the noise\, and Teller is silent\, and together their live show strikes the perfect balance between unconventional magic and trickery\, outlandish comedy and bumbling blunders. Blink and you’ll miss their mind-bending illusions and clever sleight of hand peppered with outrageous humour and delightful mishaps.  \nThis legendary magic pairing offer five decades of showmanship\, having sold out tours around the world\, alongside their hit TV Series Penn & Teller: Fool Us. The dynamic duo have created Emmy-award® winning TV specials and have made hundreds of outrageous appearances on everything from The Tonight Show Starring Jimmy Fallon\, and Friends\, to The Simpsons and The Late Show with Stephen Colbert\, earning them a star on the Hollywood Walk of Fame.  \nStep into their incomparable world of magic\, and experience the masterful magicians you love performing new tricks.  \n“They’re evil geniuses. Always amazing\, always entertaining.” – David Letterman \n“A witheringly funny…Brazen assault on the temple of magic.” – The New York Times \n“the comedy-magic duo are at their absolute peak.” – The Times Of London
URL:https://nowtoronto.com/event/penn-teller-50-years-of-magic/
LOCATION:Meridian Hall\, 1 Front St East\, Old Toronto\, Toronto\, Ontario\, M5E 1B2
CATEGORIES:Comedy & Improv
ATTACH;FMTTYPE=image/jpeg:https://nowtoronto.com/wp-content/uploads/2025/12/penn-teller-50-years-of-magic-1.jpg
END:VEVENT
BEGIN:VEVENT
DTSTART;TZID=America/Toronto:20260626T190000
DTEND;TZID=America/Toronto:20260626T200000
DTSTAMP:20260424T172516
CREATED:20260424T130135Z
LAST-MODIFIED:20260424T130135Z
UID:10317033-1782500400-1782504000@nowtoronto.com
SUMMARY:Daniel Tosh: My First Farewell Tour
DESCRIPTION:.
URL:https://nowtoronto.com/event/daniel-tosh-my-first-farewell-tour/
LOCATION:Meridian Hall\, 1 Front St East\, Old Toronto\, Toronto\, Ontario\, M5E 1B2
CATEGORIES:Film & Media
ATTACH;FMTTYPE=image/jpeg:https://nowtoronto.com/wp-content/uploads/2026/03/daniel-tosh-my-first-farewell-tour.jpg
END:VEVENT
BEGIN:VEVENT
DTSTART;TZID=America/Toronto:20260629T193000
DTEND;TZID=America/Toronto:20260629T203000
DTSTAMP:20260424T172516
CREATED:20260424T130137Z
LAST-MODIFIED:20260424T130137Z
UID:10317081-1782761400-1782765000@nowtoronto.com
SUMMARY:Dora Mavor Moore Awards presented by the Romano D'Andrea Foundation
DESCRIPTION:.
URL:https://nowtoronto.com/event/dora-mavor-moore-awards-presented-by-the-romano-dandrea-foundation/
LOCATION:Meridian Hall\, 1 Front St East\, Old Toronto\, Toronto\, Ontario\, M5E 1B2
CATEGORIES:Film & Media
ATTACH;FMTTYPE=image/jpeg:https://nowtoronto.com/wp-content/uploads/2026/04/dora-mavor-moore-awards-presented-by-the-romano-dandrea-foundation.jpg
END:VEVENT
BEGIN:VEVENT
DTSTART;TZID=America/Toronto:20260711T200000
DTEND;TZID=America/Toronto:20260711T210000
DTSTAMP:20260424T172516
CREATED:20260424T130140Z
LAST-MODIFIED:20260424T130140Z
UID:10317153-1783800000-1783803600@nowtoronto.com
SUMMARY:Wakin Chau - The Younger Me Tour 3.0
DESCRIPTION:.
URL:https://nowtoronto.com/event/wakin-chau-the-younger-me-tour-3-0/
LOCATION:Meridian Hall\, 1 Front St East\, Old Toronto\, Toronto\, Ontario\, M5E 1B2
CATEGORIES:Live Music
ATTACH;FMTTYPE=image/jpeg:https://nowtoronto.com/wp-content/uploads/2026/03/wakin-chau-the-younger-me-tour-3-0-1.jpg
END:VEVENT
BEGIN:VEVENT
DTSTART;TZID=America/Toronto:20260806T190000
DTEND;TZID=America/Toronto:20260806T200000
DTSTAMP:20260424T172516
CREATED:20260424T130145Z
LAST-MODIFIED:20260424T130145Z
UID:10317272-1786042800-1786046400@nowtoronto.com
SUMMARY:Big Thief - Somersault Slide 360 Tour
DESCRIPTION:.
URL:https://nowtoronto.com/event/big-thief-somersault-slide-360-tour/
LOCATION:Meridian Hall\, 1 Front St East\, Old Toronto\, Toronto\, Ontario\, M5E 1B2
CATEGORIES:Live Music
ATTACH;FMTTYPE=image/jpeg:https://nowtoronto.com/wp-content/uploads/2026/03/big-thief-somersault-slide-360-tour-1.jpg
END:VEVENT
BEGIN:VEVENT
DTSTART;TZID=America/Toronto:20260829T110000
DTEND;TZID=America/Toronto:20260829T120000
DTSTAMP:20260424T172516
CREATED:20260424T130149Z
LAST-MODIFIED:20260424T130149Z
UID:10317363-1788001200-1788004800@nowtoronto.com
SUMMARY:The Wiggles - Tree of Wisdom Spectacular!
DESCRIPTION:.
URL:https://nowtoronto.com/event/the-wiggles-tree-of-wisdom-spectacular/
LOCATION:Meridian Hall\, 1 Front St East\, Old Toronto\, Toronto\, Ontario\, M5E 1B2
CATEGORIES:Film & Media
ATTACH;FMTTYPE=image/jpeg:https://nowtoronto.com/wp-content/uploads/2026/03/the-wiggles-tree-of-wisdom-spectacular.jpg
END:VEVENT
BEGIN:VEVENT
DTSTART;TZID=America/Toronto:20260912T140000
DTEND;TZID=America/Toronto:20260912T150000
DTSTAMP:20260424T172516
CREATED:20260424T130151Z
LAST-MODIFIED:20260424T130151Z
UID:10317414-1789221600-1789225200@nowtoronto.com
SUMMARY:The Wizard of Oz in Concert
DESCRIPTION:.
URL:https://nowtoronto.com/event/the-wizard-of-oz-in-concert/
LOCATION:Meridian Hall\, 1 Front St East\, Old Toronto\, Toronto\, Ontario\, M5E 1B2
CATEGORIES:Film & Media
ATTACH;FMTTYPE=image/jpeg:https://nowtoronto.com/wp-content/uploads/2026/03/the-wizard-of-oz-in-concert.jpg
END:VEVENT
BEGIN:VEVENT
DTSTART;TZID=America/Toronto:20260918T190000
DTEND;TZID=America/Toronto:20260918T200000
DTSTAMP:20260424T172516
CREATED:20260424T130153Z
LAST-MODIFIED:20260424T130153Z
UID:10317451-1789758000-1789761600@nowtoronto.com
SUMMARY:Ben Schwartz & Friends
DESCRIPTION:.
URL:https://nowtoronto.com/event/ben-schwartz-friends/
LOCATION:Meridian Hall\, 1 Front St East\, Old Toronto\, Toronto\, Ontario\, M5E 1B2
CATEGORIES:Film & Media
ATTACH;FMTTYPE=image/jpeg:https://nowtoronto.com/wp-content/uploads/2026/03/ben-schwartz-friends.jpg
END:VEVENT
BEGIN:VEVENT
DTSTART;TZID=America/Toronto:20260918T200000
DTEND;TZID=America/Toronto:20260918T230000
DTSTAMP:20260424T172516
CREATED:20260309T135638Z
LAST-MODIFIED:20260305T150023Z
UID:10230425-1789761600-1789772400@nowtoronto.com
SUMMARY:Ben Schwartz & Friends
DESCRIPTION:Known for delivering fast-paced\, razor-sharp\, completely improvised comedy\, Ben Schwartz & Friends is a one-of-a-kind live experience where nothing is written\, rehearsed\, or planned in advance. Each performance is created entirely on the spot\, making every show unique to the city and audience in the room. With surprise guests joining Schwartz onstage\, no two nights are ever the same—and that unpredictability is exactly what has made the show a global sell-out. \nAt the centre of it all is Ben Schwartz\, an Emmy Award–winning writer\, actor\, and comedian whose career spans film\, television\, animation\, and—at its core—live comedy. Ben has released three acclaimed long-form improv specials on Netflix as part of Middleditch & Schwartz\, showcasing his mastery of character-driven\, long-form improvisation. His latest touring show\, Ben Schwartz & Friends\, has sold out some of the world’s most iconic venues\, including Radio City Music Hall\, the Sydney Opera House\, and London’s Royal Albert Hall.
URL:https://nowtoronto.com/event/ben-schwartz-friends-2/
LOCATION:Meridian Hall\, 1 Front St East\, Old Toronto\, Toronto\, Ontario\, M5E 1B2
CATEGORIES:Comedy & Improv
ATTACH;FMTTYPE=image/jpeg:https://nowtoronto.com/wp-content/uploads/2026/03/BenSchwartz_TORON_1920x1080.jpg
END:VEVENT
BEGIN:VEVENT
DTSTART;TZID=America/Toronto:20261004T190000
DTEND;TZID=America/Toronto:20261004T200000
DTSTAMP:20260424T172516
CREATED:20260424T130157Z
LAST-MODIFIED:20260424T130157Z
UID:10317510-1791140400-1791144000@nowtoronto.com
SUMMARY:MrBallen: Lights out Live
DESCRIPTION:.
URL:https://nowtoronto.com/event/mrballen-lights-out-live/
LOCATION:Meridian Hall\, 1 Front St East\, Old Toronto\, Toronto\, Ontario\, M5E 1B2
CATEGORIES:Film & Media
ATTACH;FMTTYPE=image/jpeg:https://nowtoronto.com/wp-content/uploads/2026/03/mrballen-lights-out-live-1.jpg
END:VEVENT
BEGIN:VEVENT
DTSTART;TZID=America/Toronto:20261005T190000
DTEND;TZID=America/Toronto:20261005T200000
DTSTAMP:20260424T172516
CREATED:20260424T130157Z
LAST-MODIFIED:20260424T130157Z
UID:10317515-1791226800-1791230400@nowtoronto.com
SUMMARY:Modest Mouse
DESCRIPTION:.
URL:https://nowtoronto.com/event/modest-mouse/
LOCATION:Meridian Hall\, 1 Front St East\, Old Toronto\, Toronto\, Ontario\, M5E 1B2
CATEGORIES:Live Music
ATTACH;FMTTYPE=image/jpeg:https://nowtoronto.com/wp-content/uploads/2026/04/modest-mouse.jpg
END:VEVENT
BEGIN:VEVENT
DTSTART;TZID=America/Toronto:20261007T200000
DTEND;TZID=America/Toronto:20261007T210000
DTSTAMP:20260424T172516
CREATED:20260424T130157Z
LAST-MODIFIED:20260424T130157Z
UID:10317519-1791403200-1791406800@nowtoronto.com
SUMMARY:John Malkovich - Their Master's Voice
DESCRIPTION:.
URL:https://nowtoronto.com/event/john-malkovich-their-masters-voice/
LOCATION:Meridian Hall\, 1 Front St East\, Old Toronto\, Toronto\, Ontario\, M5E 1B2
CATEGORIES:Film & Media
ATTACH;FMTTYPE=image/jpeg:https://nowtoronto.com/wp-content/uploads/2026/03/john-malkovich-their-masters-voice.jpg
END:VEVENT
BEGIN:VEVENT
DTSTART;TZID=America/Toronto:20261010T200000
DTEND;TZID=America/Toronto:20261010T210000
DTSTAMP:20260424T172516
CREATED:20260424T130158Z
LAST-MODIFIED:20260424T130158Z
UID:10317526-1791662400-1791666000@nowtoronto.com
SUMMARY:CHELSEA HANDLER: THE HIGH AND MIGHTY TOUR
DESCRIPTION:.
URL:https://nowtoronto.com/event/chelsea-handler-the-high-and-mighty-tour/
LOCATION:Meridian Hall\, 1 Front St East\, Old Toronto\, Toronto\, Ontario\, M5E 1B2
CATEGORIES:Film & Media
ATTACH;FMTTYPE=image/jpeg:https://nowtoronto.com/wp-content/uploads/2026/03/chelsea-handler-the-high-and-mighty-tour-1.jpg
END:VEVENT
BEGIN:VEVENT
DTSTART;TZID=America/Toronto:20261016T193000
DTEND;TZID=America/Toronto:20261016T203000
DTSTAMP:20260424T172516
CREATED:20260424T130158Z
LAST-MODIFIED:20260424T130158Z
UID:10317533-1792179000-1792182600@nowtoronto.com
SUMMARY:How to Train Your Dragon 2 in Concert
DESCRIPTION:.
URL:https://nowtoronto.com/event/how-to-train-your-dragon-2-in-concert/
LOCATION:Meridian Hall\, 1 Front St East\, Old Toronto\, Toronto\, Ontario\, M5E 1B2
CATEGORIES:Film & Media
ATTACH;FMTTYPE=image/jpeg:https://nowtoronto.com/wp-content/uploads/2026/03/how-to-train-your-dragon-2-in-concert.jpg
END:VEVENT
BEGIN:VEVENT
DTSTART;TZID=America/Toronto:20261114T200000
DTEND;TZID=America/Toronto:20261114T210000
DTSTAMP:20260424T172516
CREATED:20260424T130201Z
LAST-MODIFIED:20260424T130201Z
UID:10317589-1794686400-1794690000@nowtoronto.com
SUMMARY:Half Moon Run & The FILMharmonique Orchestra
DESCRIPTION:.
URL:https://nowtoronto.com/event/half-moon-run-the-filmharmonique-orchestra/
LOCATION:Meridian Hall\, 1 Front St East\, Old Toronto\, Toronto\, Ontario\, M5E 1B2
CATEGORIES:Live Music
ATTACH;FMTTYPE=image/jpeg:https://nowtoronto.com/wp-content/uploads/2026/03/half-moon-run-the-filmharmonique-orchestra.jpg
END:VEVENT
BEGIN:VEVENT
DTSTART;TZID=America/Toronto:20261127T193000
DTEND;TZID=America/Toronto:20261127T203000
DTSTAMP:20260424T172516
CREATED:20260424T130201Z
LAST-MODIFIED:20260424T130201Z
UID:10317602-1795807800-1795811400@nowtoronto.com
SUMMARY:Indiana Jones: Raiders of the Lost Ark in Concert
DESCRIPTION:.
URL:https://nowtoronto.com/event/indiana-jones-raiders-of-the-lost-ark-in-concert/
LOCATION:Meridian Hall\, 1 Front St East\, Old Toronto\, Toronto\, Ontario\, M5E 1B2
CATEGORIES:Film & Media
ATTACH;FMTTYPE=image/jpeg:https://nowtoronto.com/wp-content/uploads/2026/03/indiana-jones-raiders-of-the-lost-ark-in-concert.jpg
END:VEVENT
END:VCALENDAR