BEGIN:VCALENDAR
VERSION:2.0
PRODID:-//NOW Toronto - ECPv6.15.20//NONSGML v1.0//EN
CALSCALE:GREGORIAN
METHOD:PUBLISH
X-WR-CALNAME:NOW Toronto
X-ORIGINAL-URL:https://nowtoronto.com
X-WR-CALDESC:Events for NOW Toronto
REFRESH-INTERVAL;VALUE=DURATION:PT1H
X-Robots-Tag:noindex
X-PUBLISHED-TTL:PT1H
BEGIN:VTIMEZONE
TZID:America/Toronto
BEGIN:DAYLIGHT
TZOFFSETFROM:-0500
TZOFFSETTO:-0400
TZNAME:EDT
DTSTART:20250309T070000
END:DAYLIGHT
BEGIN:STANDARD
TZOFFSETFROM:-0400
TZOFFSETTO:-0500
TZNAME:EST
DTSTART:20251102T060000
END:STANDARD
BEGIN:DAYLIGHT
TZOFFSETFROM:-0500
TZOFFSETTO:-0400
TZNAME:EDT
DTSTART:20260308T070000
END:DAYLIGHT
BEGIN:STANDARD
TZOFFSETFROM:-0400
TZOFFSETTO:-0500
TZNAME:EST
DTSTART:20261101T060000
END:STANDARD
BEGIN:DAYLIGHT
TZOFFSETFROM:-0500
TZOFFSETTO:-0400
TZNAME:EDT
DTSTART:20270314T070000
END:DAYLIGHT
BEGIN:STANDARD
TZOFFSETFROM:-0400
TZOFFSETTO:-0500
TZNAME:EST
DTSTART:20271107T060000
END:STANDARD
END:VTIMEZONE
BEGIN:VEVENT
DTSTART;TZID=America/Toronto:20260510T090000
DTEND;TZID=America/Toronto:20260510T110000
DTSTAMP:20260420T124638
CREATED:20260420T130042Z
LAST-MODIFIED:20260420T130042Z
UID:10309298-1778403600-1778410800@nowtoronto.com
SUMMARY:SuperMom Walk/Run- Parkinson Canada
DESCRIPTION:Each Mother’s Day\, friends and family come together to honour and uplift women affected by Parkinson’s. It’s a day to move with purpose by either walking or running to raise awareness for those who face unique challenges in their Parkinson’s journey that are often left unseen or dismissed. \nBy participating in the 5km walk/run\, you help drive essential programs\, peer support\, and research that directly support women facing Parkinson’s. You bring crucial attention to women’s unique experiences\, elevate their voices\, and push forward a future where every woman can live boldly without limits.
URL:https://nowtoronto.com/event/supermom-walk-run-parkinson-canada/
LOCATION:Orchard Pavilion\, Orchard Pavilion\, 70 Canuck Ave\, North York\, ON M3M 2H3\, Canada\, North York\, Toronto\, Ontario\, M3M 2H3
CATEGORIES:Community Events,Fitness & Wellness,Outdoor,Sports
ATTACH;FMTTYPE=image/png:https://nowtoronto.com/wp-content/uploads/2026/04/supermom-walk-run-parkinson-canada.png
END:VEVENT
END:VCALENDAR