BEGIN:VCALENDAR
VERSION:2.0
PRODID:-//NOW Toronto - ECPv6.15.20//NONSGML v1.0//EN
CALSCALE:GREGORIAN
METHOD:PUBLISH
X-ORIGINAL-URL:https://nowtoronto.com
X-WR-CALDESC:Events for NOW Toronto
REFRESH-INTERVAL;VALUE=DURATION:PT1H
X-Robots-Tag:noindex
X-PUBLISHED-TTL:PT1H
BEGIN:VTIMEZONE
TZID:America/Toronto
BEGIN:DAYLIGHT
TZOFFSETFROM:-0500
TZOFFSETTO:-0400
TZNAME:EDT
DTSTART:20240310T070000
END:DAYLIGHT
BEGIN:STANDARD
TZOFFSETFROM:-0400
TZOFFSETTO:-0500
TZNAME:EST
DTSTART:20241103T060000
END:STANDARD
BEGIN:DAYLIGHT
TZOFFSETFROM:-0500
TZOFFSETTO:-0400
TZNAME:EDT
DTSTART:20250309T070000
END:DAYLIGHT
BEGIN:STANDARD
TZOFFSETFROM:-0400
TZOFFSETTO:-0500
TZNAME:EST
DTSTART:20251102T060000
END:STANDARD
BEGIN:DAYLIGHT
TZOFFSETFROM:-0500
TZOFFSETTO:-0400
TZNAME:EDT
DTSTART:20260308T070000
END:DAYLIGHT
BEGIN:STANDARD
TZOFFSETFROM:-0400
TZOFFSETTO:-0500
TZNAME:EST
DTSTART:20261101T060000
END:STANDARD
BEGIN:DAYLIGHT
TZOFFSETFROM:-0500
TZOFFSETTO:-0400
TZNAME:EDT
DTSTART:20270314T070000
END:DAYLIGHT
BEGIN:STANDARD
TZOFFSETFROM:-0400
TZOFFSETTO:-0500
TZNAME:EST
DTSTART:20271107T060000
END:STANDARD
END:VTIMEZONE
BEGIN:VEVENT
DTSTART;TZID=America/Toronto:20260222T133000
DTEND;TZID=America/Toronto:20260222T170000
DTSTAMP:20260425T221406
CREATED:20260222T140016Z
LAST-MODIFIED:20260222T140016Z
UID:10208739-1771767000-1771779600@nowtoronto.com
SUMMARY:TFS Presents an Italian Double Feature
DESCRIPTION:On Sunday\, February 22nd\, at the Paradise Theatre in Toronto\, the Toronto Film Society is showing a double feature of Italian films: two films for one low price! \nFirst up is Il Sorpasso (The Easy Life) (1962). A defining masterpiece of Italian commedia all’italiana\, Dino Risi’s Il Sorpasso follows the unlikely pairing of shy law student Roberto and charismatic drifter Bruno as they tear through the sun-drenched roads of Ferragosto in Bruno’s roaring Lancia Aurelia. What begins as a spontaneous joyride becomes a sharp\, unsettling look at a country racing toward modernity\, at once funny\, free-spirited\, and deeply poignant. Dino Risi blends social satire with emotional depth\, powered by memorable performances from Vittorio Gassman and Jean-Louis Trintignant. \nShown in the original Italian with English subtitles. \nNext on screen is Federico Fellini’s Orchestra Rehearsal (Prova d’orchestra) (1978). Part mockumentary and part political allegory\, Orchestra Rehearsal transforms a single rehearsal room into a chaotic microcosm of Italian society. A documentary crew observes an orchestra whose players bicker\, complain\, organize\, rebel\, and eventually confront forces beyond their control. The comedy gradually sharpens into something darker and more surreal\, echoing the turbulence of 1970s Italy. With Nino Rota’s music driving the rhythm of the film\, this compact work becomes a provocative meditation on authority\, art\, and the fragile balance required to create harmony. \nShown in the original Italian with English subtitles.
URL:https://nowtoronto.com/event/tfs-presents-an-italian-double-feature/
LOCATION:Paradise\, 1006 Bloor St West\, Toronto\, Toronto\, M6H 1M2
CATEGORIES:Film & Media
ATTACH;FMTTYPE=image/png:https://nowtoronto.com/wp-content/uploads/2026/02/tfs-presents-an-italian-double-feature.png
END:VEVENT
BEGIN:VEVENT
DTSTART;TZID=America/Toronto:20251130T133000
DTEND;TZID=America/Toronto:20251130T143000
DTSTAMP:20260425T221406
CREATED:20251130T140020Z
LAST-MODIFIED:20251130T140020Z
UID:10106002-1764509400-1764513000@nowtoronto.com
SUMMARY:Sherlock Holmes Dbl Feature: Murder by Decree  The Pearl of Death
DESCRIPTION:Sherlock Holmes Double Feature! \nMurder by Decree \nSherlock Holmes meets Jack the Ripper in this moody\, atmospheric thriller that blends classic detective work with chilling true crime. Christopher Plummer brings warmth and wit to Holmes\, while James Mason’s Dr. Watson is the perfect steadying foil. Directed by Bob Clark (yes\, the same Bob Clark who made A Christmas Story)\, Murder by Decree is a richly stylized mystery that explores the dark underbelly of Victorian London—and delivers suspense with a sharp social conscience. A must for fans of Holmes and horror alike.  \nThe Pearl of Death \nBasil Rathbone’s razor-sharp Sherlock Holmes faces off against one of his most terrifying foes yet in this fast-paced mystery based on “The Six Napoleons.” When a priceless jewel goes missing and bodies start piling up\, Holmes and Watson (a delightfully bumbling Nigel Bruce) must unravel a deadly trail of clues—leading to the monstrous “Creeper\,” played with chilling menace by Rondo Hatton. Full of shadowy streets\, clever deductions\, and old-school thrills\, The Pearl of Death is a classic Holmes caper with a horror twist.  \nTickets: https://paradiseonbloor.com/programs/double-feature-sherlock/
URL:https://nowtoronto.com/event/sherlock-holmes-dbl-feature-murder-by-decree-the-pearl-of-death/
LOCATION:Paradise\, 1006 Bloor St West\, Toronto\, Toronto\, M6H 1M2
CATEGORIES:Film & Media
ATTACH;FMTTYPE=image/jpeg:https://nowtoronto.com/wp-content/uploads/2025/11/sherlock-holmes-dbl-feature-murder-by-decree-the-pearl-of-death.jpg
END:VEVENT
END:VCALENDAR