BEGIN:VCALENDAR
VERSION:2.0
PRODID:-//NOW Toronto - ECPv6.15.20//NONSGML v1.0//EN
CALSCALE:GREGORIAN
METHOD:PUBLISH
X-WR-CALNAME:NOW Toronto
X-ORIGINAL-URL:https://nowtoronto.com
X-WR-CALDESC:Events for NOW Toronto
REFRESH-INTERVAL;VALUE=DURATION:PT1H
X-Robots-Tag:noindex
X-PUBLISHED-TTL:PT1H
BEGIN:VTIMEZONE
TZID:America/Toronto
BEGIN:DAYLIGHT
TZOFFSETFROM:-0500
TZOFFSETTO:-0400
TZNAME:EDT
DTSTART:20250309T070000
END:DAYLIGHT
BEGIN:STANDARD
TZOFFSETFROM:-0400
TZOFFSETTO:-0500
TZNAME:EST
DTSTART:20251102T060000
END:STANDARD
BEGIN:DAYLIGHT
TZOFFSETFROM:-0500
TZOFFSETTO:-0400
TZNAME:EDT
DTSTART:20260308T070000
END:DAYLIGHT
BEGIN:STANDARD
TZOFFSETFROM:-0400
TZOFFSETTO:-0500
TZNAME:EST
DTSTART:20261101T060000
END:STANDARD
BEGIN:DAYLIGHT
TZOFFSETFROM:-0500
TZOFFSETTO:-0400
TZNAME:EDT
DTSTART:20270314T070000
END:DAYLIGHT
BEGIN:STANDARD
TZOFFSETFROM:-0400
TZOFFSETTO:-0500
TZNAME:EST
DTSTART:20271107T060000
END:STANDARD
END:VTIMEZONE
BEGIN:VEVENT
DTSTART;TZID=America/Toronto:20260625T220000
DTEND;TZID=America/Toronto:20260629T100000
DTSTAMP:20260424T084808
CREATED:20260423T130242Z
LAST-MODIFIED:20260423T130242Z
UID:10315233-1782424800-1782727200@nowtoronto.com
SUMMARY:GOLD Weekend Pass - Prism Festival 2026
DESCRIPTION:.
URL:https://nowtoronto.com/event/gold-weekend-pass-prism-festival-2026/
LOCATION:Prism Welcome Centre\, Prism Welcome Centre\, Location TBA\, . Toronto\, Ontario\, Canada\, Toronto\, M4N 3R4
CATEGORIES:Live Music
ATTACH;FMTTYPE=image/jpeg:https://nowtoronto.com/wp-content/uploads/2026/03/gold-weekend-pass-prism-festival-2026.jpg
END:VEVENT
BEGIN:VEVENT
DTSTART;TZID=America/Toronto:20260625T220000
DTEND;TZID=America/Toronto:20260629T100000
DTSTAMP:20260424T084808
CREATED:20260423T130242Z
LAST-MODIFIED:20260423T130242Z
UID:10315234-1782424800-1782727200@nowtoronto.com
SUMMARY:SILVER Weekend Pass - Prism Festival 2026
DESCRIPTION:.
URL:https://nowtoronto.com/event/silver-weekend-pass-prism-festival-2026/
LOCATION:Prism Welcome Centre\, Prism Welcome Centre\, Location TBA\, . Toronto\, Ontario\, Canada\, Toronto\, M4N 3R4
CATEGORIES:Live Music
ATTACH;FMTTYPE=image/jpeg:https://nowtoronto.com/wp-content/uploads/2026/03/silver-weekend-pass-prism-festival-2026.jpg
END:VEVENT
BEGIN:VEVENT
DTSTART;TZID=America/Toronto:20260625T220000
DTEND;TZID=America/Toronto:20260629T100000
DTSTAMP:20260424T084808
CREATED:20260423T130242Z
LAST-MODIFIED:20260423T130242Z
UID:10315235-1782424800-1782727200@nowtoronto.com
SUMMARY:VIP Weekend Pass - Prism Festival 2026
DESCRIPTION:.
URL:https://nowtoronto.com/event/vip-weekend-pass-prism-festival-2026/
LOCATION:Prism Welcome Centre\, Prism Welcome Centre\, Location TBA\, . Toronto\, Ontario\, Canada\, Toronto\, M4N 3R4
CATEGORIES:Live Music
ATTACH;FMTTYPE=image/jpeg:https://nowtoronto.com/wp-content/uploads/2026/03/vip-weekend-pass-prism-festival-2026.jpg
END:VEVENT
BEGIN:VEVENT
DTSTART;TZID=America/Toronto:20260625T220000
DTEND;TZID=America/Toronto:20260629T100000
DTSTAMP:20260424T084808
CREATED:20260423T130242Z
LAST-MODIFIED:20260423T130242Z
UID:10315236-1782424800-1782727200@nowtoronto.com
SUMMARY:STUDENT GOLD Weekend Pass - Prism Festival 2026
DESCRIPTION:.
URL:https://nowtoronto.com/event/student-gold-weekend-pass-prism-festival-2026/
LOCATION:Prism Welcome Centre\, Prism Welcome Centre\, Location TBA\, . Toronto\, Ontario\, Canada\, Toronto\, M4N 3R4
CATEGORIES:Live Music
ATTACH;FMTTYPE=image/jpeg:https://nowtoronto.com/wp-content/uploads/2026/03/student-gold-weekend-pass-prism-festival-2026.jpg
END:VEVENT
END:VCALENDAR