BEGIN:VCALENDAR
VERSION:2.0
PRODID:-//NOW Toronto - ECPv6.15.20//NONSGML v1.0//EN
CALSCALE:GREGORIAN
METHOD:PUBLISH
X-WR-CALNAME:NOW Toronto
X-ORIGINAL-URL:https://nowtoronto.com
X-WR-CALDESC:Events for NOW Toronto
REFRESH-INTERVAL;VALUE=DURATION:PT1H
X-Robots-Tag:noindex
X-PUBLISHED-TTL:PT1H
BEGIN:VTIMEZONE
TZID:America/Toronto
BEGIN:DAYLIGHT
TZOFFSETFROM:-0500
TZOFFSETTO:-0400
TZNAME:EDT
DTSTART:20250309T070000
END:DAYLIGHT
BEGIN:STANDARD
TZOFFSETFROM:-0400
TZOFFSETTO:-0500
TZNAME:EST
DTSTART:20251102T060000
END:STANDARD
BEGIN:DAYLIGHT
TZOFFSETFROM:-0500
TZOFFSETTO:-0400
TZNAME:EDT
DTSTART:20260308T070000
END:DAYLIGHT
BEGIN:STANDARD
TZOFFSETFROM:-0400
TZOFFSETTO:-0500
TZNAME:EST
DTSTART:20261101T060000
END:STANDARD
BEGIN:DAYLIGHT
TZOFFSETFROM:-0500
TZOFFSETTO:-0400
TZNAME:EDT
DTSTART:20270314T070000
END:DAYLIGHT
BEGIN:STANDARD
TZOFFSETFROM:-0400
TZOFFSETTO:-0500
TZNAME:EST
DTSTART:20271107T060000
END:STANDARD
END:VTIMEZONE
BEGIN:VEVENT
DTSTART;TZID=America/Toronto:20260424T200000
DTEND;TZID=America/Toronto:20260424T210000
DTSTAMP:20260424T040241
CREATED:20260423T130021Z
LAST-MODIFIED:20260423T130021Z
UID:10314070-1777060800-1777064400@nowtoronto.com
SUMMARY:Triumph: The Rock & Roll Machine Reloaded Tour
DESCRIPTION:.
URL:https://nowtoronto.com/event/triumph-the-rock-roll-machine-reloaded-tour/
LOCATION:Scotiabank Arena\, 40 Bay Street\, Toronto\, M5J 2X2
CATEGORIES:Live Music
ATTACH;FMTTYPE=image/jpeg:https://nowtoronto.com/wp-content/uploads/2026/03/triumph-the-rock-roll-machine-reloaded-tour.jpg
END:VEVENT
BEGIN:VEVENT
DTSTART;TZID=America/Toronto:20260426T130000
DTEND;TZID=America/Toronto:20260426T140000
DTSTAMP:20260424T040241
CREATED:20260423T130026Z
LAST-MODIFIED:20260423T130026Z
UID:10314145-1777208400-1777212000@nowtoronto.com
SUMMARY:Toronto Raptors v Cleveland Cavaliers - NBA Playoffs Rd 1 Home Game 2
DESCRIPTION:.
URL:https://nowtoronto.com/event/toronto-raptors-v-cleveland-cavaliers-nba-playoffs-rd-1-home-game-2/
LOCATION:Scotiabank Arena\, 40 Bay Street\, Toronto\, M5J 2X2
CATEGORIES:Sports
ATTACH;FMTTYPE=image/jpeg:https://nowtoronto.com/wp-content/uploads/2026/04/toronto-raptors-v-cleveland-cavaliers-nba-playoffs-rd-1-home-game-2.jpg
END:VEVENT
BEGIN:VEVENT
DTSTART;TZID=America/Toronto:20260428T180000
DTEND;TZID=America/Toronto:20260428T190000
DTSTAMP:20260424T040241
CREATED:20260423T130030Z
LAST-MODIFIED:20260423T130030Z
UID:10314196-1777399200-1777402800@nowtoronto.com
SUMMARY:Bring Me The Horizon - N. American Ascension Program 2
DESCRIPTION:.
URL:https://nowtoronto.com/event/bring-me-the-horizon-n-american-ascension-program-2/
LOCATION:Scotiabank Arena\, 40 Bay Street\, Toronto\, M5J 2X2
CATEGORIES:Live Music
ATTACH;FMTTYPE=image/jpeg:https://nowtoronto.com/wp-content/uploads/2026/03/bring-me-the-horizon-n-american-ascension-program-2.jpg
END:VEVENT
BEGIN:VEVENT
DTSTART;TZID=America/Toronto:20260501T190000
DTEND;TZID=America/Toronto:20260501T200000
DTSTAMP:20260424T040241
CREATED:20260423T130035Z
LAST-MODIFIED:20260423T130035Z
UID:10314266-1777662000-1777665600@nowtoronto.com
SUMMARY:Stars On Ice 2026
DESCRIPTION:.
URL:https://nowtoronto.com/event/stars-on-ice-2026/
LOCATION:Scotiabank Arena\, 40 Bay Street\, Toronto\, M5J 2X2
CATEGORIES:Tours
ATTACH;FMTTYPE=image/jpeg:https://nowtoronto.com/wp-content/uploads/2026/03/stars-on-ice-2026.jpg
END:VEVENT
BEGIN:VEVENT
DTSTART;TZID=America/Toronto:20260501T190000
DTEND;TZID=America/Toronto:20260501T200000
DTSTAMP:20260424T040241
CREATED:20260423T130035Z
LAST-MODIFIED:20260423T130035Z
UID:10314267-1777662000-1777665600@nowtoronto.com
SUMMARY:Stars on Ice Pre-Show Stargazer Pass
DESCRIPTION:.
URL:https://nowtoronto.com/event/stars-on-ice-pre-show-stargazer-pass/
LOCATION:Scotiabank Arena\, 40 Bay Street\, Toronto\, M5J 2X2
CATEGORIES:Tours
ATTACH;FMTTYPE=image/jpeg:https://nowtoronto.com/wp-content/uploads/2026/03/stars-on-ice-pre-show-stargazer-pass.jpg
END:VEVENT
BEGIN:VEVENT
DTSTART;TZID=America/Toronto:20260501T200000
DTEND;TZID=America/Toronto:20260501T210000
DTSTAMP:20260424T040241
CREATED:20260423T130036Z
LAST-MODIFIED:20260423T130036Z
UID:10314287-1777665600-1777669200@nowtoronto.com
SUMMARY:Toronto Raptors v Cleveland Cavaliers - NBA Playoffs Rd 1 Home Game 3
DESCRIPTION:.
URL:https://nowtoronto.com/event/toronto-raptors-v-cleveland-cavaliers-nba-playoffs-rd-1-home-game-3/
LOCATION:Scotiabank Arena\, 40 Bay Street\, Toronto\, M5J 2X2
CATEGORIES:Sports
ATTACH;FMTTYPE=image/jpeg:https://nowtoronto.com/wp-content/uploads/2026/04/toronto-raptors-v-cleveland-cavaliers-nba-playoffs-rd-1-home-game-3.jpg
END:VEVENT
BEGIN:VEVENT
DTSTART;TZID=America/Toronto:20260509T200000
DTEND;TZID=America/Toronto:20260509T210000
DTSTAMP:20260424T040241
CREATED:20260423T130057Z
LAST-MODIFIED:20260423T130057Z
UID:10314522-1778356800-1778360400@nowtoronto.com
SUMMARY:Karan Aujla
DESCRIPTION:.
URL:https://nowtoronto.com/event/karan-aujla/
LOCATION:Scotiabank Arena\, 40 Bay Street\, Toronto\, M5J 2X2
CATEGORIES:Live Music
ATTACH;FMTTYPE=image/jpeg:https://nowtoronto.com/wp-content/uploads/2026/03/karan-aujla.jpg
END:VEVENT
BEGIN:VEVENT
DTSTART;TZID=America/Toronto:20260526T193000
DTEND;TZID=America/Toronto:20260526T203000
DTSTAMP:20260424T040241
CREATED:20260423T130130Z
LAST-MODIFIED:20260423T130130Z
UID:10314816-1779823800-1779827400@nowtoronto.com
SUMMARY:Summer Walker: Still Finally Over It Tour
DESCRIPTION:.
URL:https://nowtoronto.com/event/summer-walker-still-finally-over-it-tour/
LOCATION:Scotiabank Arena\, 40 Bay Street\, Toronto\, M5J 2X2
CATEGORIES:Live Music
ATTACH;FMTTYPE=image/jpeg:https://nowtoronto.com/wp-content/uploads/2026/03/summer-walker-still-finally-over-it-tour.jpg
END:VEVENT
BEGIN:VEVENT
DTSTART;TZID=America/Toronto:20260529T200000
DTEND;TZID=America/Toronto:20260529T210000
DTSTAMP:20260424T040241
CREATED:20260423T130132Z
LAST-MODIFIED:20260423T130132Z
UID:10314838-1780084800-1780088400@nowtoronto.com
SUMMARY:Romeo Santos & Prince Royce - Mejor Tarde Que Nunca Tour 2026
DESCRIPTION:.
URL:https://nowtoronto.com/event/romeo-santos-prince-royce-mejor-tarde-que-nunca-tour-2026/
LOCATION:Scotiabank Arena\, 40 Bay Street\, Toronto\, M5J 2X2
CATEGORIES:Live Music
ATTACH;FMTTYPE=image/jpeg:https://nowtoronto.com/wp-content/uploads/2026/03/romeo-santos-prince-royce-mejor-tarde-que-nunca-tour-2026.jpg
END:VEVENT
BEGIN:VEVENT
DTSTART;TZID=America/Toronto:20260530T193000
DTEND;TZID=America/Toronto:20260530T203000
DTSTAMP:20260424T040241
CREATED:20260423T130134Z
LAST-MODIFIED:20260423T130134Z
UID:10314856-1780169400-1780173000@nowtoronto.com
SUMMARY:The Guess Who: Takin' It Back Tour
DESCRIPTION:.
URL:https://nowtoronto.com/event/the-guess-who-takin-it-back-tour/
LOCATION:Scotiabank Arena\, 40 Bay Street\, Toronto\, M5J 2X2
CATEGORIES:Live Music
ATTACH;FMTTYPE=image/jpeg:https://nowtoronto.com/wp-content/uploads/2026/03/the-guess-who-takin-it-back-tour.jpg
END:VEVENT
BEGIN:VEVENT
DTSTART;TZID=America/Toronto:20260531T193000
DTEND;TZID=America/Toronto:20260531T203000
DTSTAMP:20260424T040241
CREATED:20260423T130137Z
LAST-MODIFIED:20260423T130137Z
UID:10314882-1780255800-1780259400@nowtoronto.com
SUMMARY:A$AP Rocky - Don't Be Dumb World Tour
DESCRIPTION:.
URL:https://nowtoronto.com/event/aap-rocky-dont-be-dumb-world-tour/
LOCATION:Scotiabank Arena\, 40 Bay Street\, Toronto\, M5J 2X2
CATEGORIES:Live Music
ATTACH;FMTTYPE=image/jpeg:https://nowtoronto.com/wp-content/uploads/2026/03/aap-rocky-dont-be-dumb-world-tour.jpg
END:VEVENT
BEGIN:VEVENT
DTSTART;TZID=America/Toronto:20260604T200000
DTEND;TZID=America/Toronto:20260604T210000
DTSTAMP:20260424T040241
CREATED:20260423T130141Z
LAST-MODIFIED:20260423T130141Z
UID:10314910-1780603200-1780606800@nowtoronto.com
SUMMARY:Josh Groban with special guest Jennifer Hudson
DESCRIPTION:.
URL:https://nowtoronto.com/event/josh-groban-with-special-guest-jennifer-hudson/
LOCATION:Scotiabank Arena\, 40 Bay Street\, Toronto\, M5J 2X2
CATEGORIES:Live Music
ATTACH;FMTTYPE=image/jpeg:https://nowtoronto.com/wp-content/uploads/2026/03/josh-groban-with-special-guest-jennifer-hudson.jpg
END:VEVENT
BEGIN:VEVENT
DTSTART;TZID=America/Toronto:20260605T193000
DTEND;TZID=America/Toronto:20260605T203000
DTSTAMP:20260424T040241
CREATED:20260423T130142Z
LAST-MODIFIED:20260423T130142Z
UID:10314922-1780687800-1780691400@nowtoronto.com
SUMMARY:Don Toliver: Octane Tour
DESCRIPTION:.
URL:https://nowtoronto.com/event/don-toliver-octane-tour/
LOCATION:Scotiabank Arena\, 40 Bay Street\, Toronto\, M5J 2X2
CATEGORIES:Live Music
ATTACH;FMTTYPE=image/jpeg:https://nowtoronto.com/wp-content/uploads/2026/03/don-toliver-octane-tour.jpg
END:VEVENT
BEGIN:VEVENT
DTSTART;TZID=America/Toronto:20260613T203000
DTEND;TZID=America/Toronto:20260613T213000
DTSTAMP:20260424T040241
CREATED:20260423T130200Z
LAST-MODIFIED:20260423T130200Z
UID:10315036-1781382600-1781386200@nowtoronto.com
SUMMARY:ROSALÍA: LUX TOUR 2026
DESCRIPTION:.
URL:https://nowtoronto.com/event/rosalia-lux-tour-2026/
LOCATION:Scotiabank Arena\, 40 Bay Street\, Toronto\, M5J 2X2
CATEGORIES:Live Music
ATTACH;FMTTYPE=image/jpeg:https://nowtoronto.com/wp-content/uploads/2026/03/rosalia-lux-tour-2026.jpg
END:VEVENT
BEGIN:VEVENT
DTSTART;TZID=America/Toronto:20260619T183000
DTEND;TZID=America/Toronto:20260619T193000
DTSTAMP:20260424T040241
CREATED:20260423T130208Z
LAST-MODIFIED:20260423T130208Z
UID:10315089-1781893800-1781897400@nowtoronto.com
SUMMARY:JOJI: SOLARIS
DESCRIPTION:.
URL:https://nowtoronto.com/event/joji-solaris/
LOCATION:Scotiabank Arena\, 40 Bay Street\, Toronto\, M5J 2X2
CATEGORIES:Live Music
ATTACH;FMTTYPE=image/jpeg:https://nowtoronto.com/wp-content/uploads/2026/03/joji-solaris-1.jpg
END:VEVENT
BEGIN:VEVENT
DTSTART;TZID=America/Toronto:20260620T190000
DTEND;TZID=America/Toronto:20260620T200000
DTSTAMP:20260424T040241
CREATED:20260423T130214Z
LAST-MODIFIED:20260423T130214Z
UID:10315119-1781982000-1781985600@nowtoronto.com
SUMMARY:Megan Moroney: The Cloud 9 Tour
DESCRIPTION:.
URL:https://nowtoronto.com/event/megan-moroney-the-cloud-9-tour/
LOCATION:Scotiabank Arena\, 40 Bay Street\, Toronto\, M5J 2X2
CATEGORIES:Live Music
ATTACH;FMTTYPE=image/jpeg:https://nowtoronto.com/wp-content/uploads/2026/03/megan-moroney-the-cloud-9-tour.jpg
END:VEVENT
BEGIN:VEVENT
DTSTART;TZID=America/Toronto:20260627T140000
DTEND;TZID=America/Toronto:20260627T150000
DTSTAMP:20260424T040241
CREATED:20260423T130231Z
LAST-MODIFIED:20260423T130231Z
UID:10315207-1782568800-1782572400@nowtoronto.com
SUMMARY:Toronto Tempo v Phoenix Mercury
DESCRIPTION:.
URL:https://nowtoronto.com/event/toronto-tempo-v-phoenix-mercury/
LOCATION:Scotiabank Arena\, 40 Bay Street\, Toronto\, M5J 2X2
CATEGORIES:Sports
ATTACH;FMTTYPE=image/jpeg:https://nowtoronto.com/wp-content/uploads/2026/03/toronto-tempo-v-phoenix-mercury-1.jpg
END:VEVENT
BEGIN:VEVENT
DTSTART;TZID=America/Toronto:20260629T200000
DTEND;TZID=America/Toronto:20260629T210000
DTSTAMP:20260424T040241
CREATED:20260423T130245Z
LAST-MODIFIED:20260423T130245Z
UID:10315244-1782763200-1782766800@nowtoronto.com
SUMMARY:Raptors Fan Plus Ups: Post Game Court Experience - Play-In Hm Gm 1
DESCRIPTION:.
URL:https://nowtoronto.com/event/raptors-fan-plus-ups-post-game-court-experience-play-in-hm-gm-1/
LOCATION:Scotiabank Arena\, 40 Bay Street\, Toronto\, M5J 2X2
CATEGORIES:Tours
ATTACH;FMTTYPE=image/jpeg:https://nowtoronto.com/wp-content/uploads/2026/04/raptors-fan-plus-ups-post-game-court-experience-play-in-hm-gm-1.jpg
END:VEVENT
BEGIN:VEVENT
DTSTART;TZID=America/Toronto:20260629T200000
DTEND;TZID=America/Toronto:20260629T210000
DTSTAMP:20260424T040241
CREATED:20260423T130246Z
LAST-MODIFIED:20260423T130246Z
UID:10315245-1782763200-1782766800@nowtoronto.com
SUMMARY:Raptors Fan Access Plus Ups: Courtside Access Warmup - Play-In Hm Gm 1
DESCRIPTION:.
URL:https://nowtoronto.com/event/raptors-fan-access-plus-ups-courtside-access-warmup-play-in-hm-gm-1/
LOCATION:Scotiabank Arena\, 40 Bay Street\, Toronto\, M5J 2X2
CATEGORIES:Tours
ATTACH;FMTTYPE=image/jpeg:https://nowtoronto.com/wp-content/uploads/2026/04/raptors-fan-access-plus-ups-courtside-access-warmup-play-in-hm-gm-1.jpg
END:VEVENT
BEGIN:VEVENT
DTSTART;TZID=America/Toronto:20260629T200000
DTEND;TZID=America/Toronto:20260629T210000
DTSTAMP:20260424T040241
CREATED:20260423T130246Z
LAST-MODIFIED:20260423T130246Z
UID:10315246-1782763200-1782766800@nowtoronto.com
SUMMARY:Raptors Fan Access Plus Ups: Starting Lineup Sheet - Play-In Hm Gm 1
DESCRIPTION:.
URL:https://nowtoronto.com/event/raptors-fan-access-plus-ups-starting-lineup-sheet-play-in-hm-gm-1/
LOCATION:Scotiabank Arena\, 40 Bay Street\, Toronto\, M5J 2X2
CATEGORIES:Tours
ATTACH;FMTTYPE=image/jpeg:https://nowtoronto.com/wp-content/uploads/2026/04/raptors-fan-access-plus-ups-starting-lineup-sheet-play-in-hm-gm-1.jpg
END:VEVENT
BEGIN:VEVENT
DTSTART;TZID=America/Toronto:20260629T200000
DTEND;TZID=America/Toronto:20260629T210000
DTSTAMP:20260424T040241
CREATED:20260423T130246Z
LAST-MODIFIED:20260423T130246Z
UID:10315247-1782763200-1782766800@nowtoronto.com
SUMMARY:Raptors Fan Access Plus Ups: On-Court Flag Bearer - Play-In Hm Gm 1
DESCRIPTION:.
URL:https://nowtoronto.com/event/raptors-fan-access-plus-ups-on-court-flag-bearer-play-in-hm-gm-1/
LOCATION:Scotiabank Arena\, 40 Bay Street\, Toronto\, M5J 2X2
CATEGORIES:Tours
ATTACH;FMTTYPE=image/jpeg:https://nowtoronto.com/wp-content/uploads/2026/04/raptors-fan-access-plus-ups-on-court-flag-bearer-play-in-hm-gm-1.jpg
END:VEVENT
BEGIN:VEVENT
DTSTART;TZID=America/Toronto:20260629T200000
DTEND;TZID=America/Toronto:20260629T210000
DTSTAMP:20260424T040241
CREATED:20260423T130246Z
LAST-MODIFIED:20260423T130246Z
UID:10315248-1782763200-1782766800@nowtoronto.com
SUMMARY:Toronto Raptors - NBA Play-In Tournament Home Game 1
DESCRIPTION:.
URL:https://nowtoronto.com/event/toronto-raptors-nba-play-in-tournament-home-game-1/
LOCATION:Scotiabank Arena\, 40 Bay Street\, Toronto\, M5J 2X2
CATEGORIES:Sports
ATTACH;FMTTYPE=image/jpeg:https://nowtoronto.com/wp-content/uploads/2026/04/toronto-raptors-nba-play-in-tournament-home-game-1.jpg
END:VEVENT
BEGIN:VEVENT
DTSTART;TZID=America/Toronto:20260630T200000
DTEND;TZID=America/Toronto:20260630T210000
DTSTAMP:20260424T040241
CREATED:20260423T130247Z
LAST-MODIFIED:20260423T130247Z
UID:10315258-1782849600-1782853200@nowtoronto.com
SUMMARY:Raptors Fan Plus Ups: Post Game Court Experience - Play-In Hm Gm 2
DESCRIPTION:.
URL:https://nowtoronto.com/event/raptors-fan-plus-ups-post-game-court-experience-play-in-hm-gm-2/
LOCATION:Scotiabank Arena\, 40 Bay Street\, Toronto\, M5J 2X2
CATEGORIES:Tours
ATTACH;FMTTYPE=image/jpeg:https://nowtoronto.com/wp-content/uploads/2026/04/raptors-fan-plus-ups-post-game-court-experience-play-in-hm-gm-2.jpg
END:VEVENT
BEGIN:VEVENT
DTSTART;TZID=America/Toronto:20260630T200000
DTEND;TZID=America/Toronto:20260630T210000
DTSTAMP:20260424T040241
CREATED:20260423T130247Z
LAST-MODIFIED:20260423T130247Z
UID:10315259-1782849600-1782853200@nowtoronto.com
SUMMARY:Raptors Fan Access Plus Ups: Courtside Access Warmup - Play-In Hm Gm 2
DESCRIPTION:.
URL:https://nowtoronto.com/event/raptors-fan-access-plus-ups-courtside-access-warmup-play-in-hm-gm-2/
LOCATION:Scotiabank Arena\, 40 Bay Street\, Toronto\, M5J 2X2
CATEGORIES:Tours
ATTACH;FMTTYPE=image/jpeg:https://nowtoronto.com/wp-content/uploads/2026/04/raptors-fan-access-plus-ups-courtside-access-warmup-play-in-hm-gm-2.jpg
END:VEVENT
BEGIN:VEVENT
DTSTART;TZID=America/Toronto:20260630T200000
DTEND;TZID=America/Toronto:20260630T210000
DTSTAMP:20260424T040241
CREATED:20260423T130247Z
LAST-MODIFIED:20260423T130247Z
UID:10315260-1782849600-1782853200@nowtoronto.com
SUMMARY:Raptors Fan Access Plus Ups: Starting Lineup Sheet - Play-In Hm Gm 2
DESCRIPTION:.
URL:https://nowtoronto.com/event/raptors-fan-access-plus-ups-starting-lineup-sheet-play-in-hm-gm-2/
LOCATION:Scotiabank Arena\, 40 Bay Street\, Toronto\, M5J 2X2
CATEGORIES:Tours
ATTACH;FMTTYPE=image/jpeg:https://nowtoronto.com/wp-content/uploads/2026/04/raptors-fan-access-plus-ups-starting-lineup-sheet-play-in-hm-gm-2.jpg
END:VEVENT
BEGIN:VEVENT
DTSTART;TZID=America/Toronto:20260630T200000
DTEND;TZID=America/Toronto:20260630T210000
DTSTAMP:20260424T040241
CREATED:20260423T130247Z
LAST-MODIFIED:20260423T130247Z
UID:10315256-1782849600-1782853200@nowtoronto.com
SUMMARY:Toronto Raptors - NBA Play-In Tournament Home Game 2
DESCRIPTION:.
URL:https://nowtoronto.com/event/toronto-raptors-nba-play-in-tournament-home-game-2/
LOCATION:Scotiabank Arena\, 40 Bay Street\, Toronto\, M5J 2X2
CATEGORIES:Sports
ATTACH;FMTTYPE=image/jpeg:https://nowtoronto.com/wp-content/uploads/2026/04/toronto-raptors-nba-play-in-tournament-home-game-2.jpg
END:VEVENT
BEGIN:VEVENT
DTSTART;TZID=America/Toronto:20260630T200000
DTEND;TZID=America/Toronto:20260630T210000
DTSTAMP:20260424T040241
CREATED:20260423T130247Z
LAST-MODIFIED:20260423T130247Z
UID:10315257-1782849600-1782853200@nowtoronto.com
SUMMARY:Raptors Fan Access Plus Ups: On-Court Flag Bearer - Play-In Hm Gm 2
DESCRIPTION:.
URL:https://nowtoronto.com/event/raptors-fan-access-plus-ups-on-court-flag-bearer-play-in-hm-gm-2/
LOCATION:Scotiabank Arena\, 40 Bay Street\, Toronto\, M5J 2X2
CATEGORIES:Tours
ATTACH;FMTTYPE=image/jpeg:https://nowtoronto.com/wp-content/uploads/2026/04/raptors-fan-access-plus-ups-on-court-flag-bearer-play-in-hm-gm-2.jpg
END:VEVENT
BEGIN:VEVENT
DTSTART;TZID=America/Toronto:20260704T193000
DTEND;TZID=America/Toronto:20260704T203000
DTSTAMP:20260424T040241
CREATED:20260423T130250Z
LAST-MODIFIED:20260423T130250Z
UID:10315279-1783193400-1783197000@nowtoronto.com
SUMMARY:Lionel Richie and Earth\, Wind & Fire - Sing a Song All Night Long
DESCRIPTION:.
URL:https://nowtoronto.com/event/lionel-richie-and-earth-wind-fire-sing-a-song-all-night-long/
LOCATION:Scotiabank Arena\, 40 Bay Street\, Toronto\, M5J 2X2
CATEGORIES:Live Music
ATTACH;FMTTYPE=image/jpeg:https://nowtoronto.com/wp-content/uploads/2026/03/lionel-richie-and-earth-wind-fire-sing-a-song-all-night-long.jpg
END:VEVENT
BEGIN:VEVENT
DTSTART;TZID=America/Toronto:20260717T190000
DTEND;TZID=America/Toronto:20260717T200000
DTSTAMP:20260424T040241
CREATED:20260423T130258Z
LAST-MODIFIED:20260423T130258Z
UID:10315332-1784314800-1784318400@nowtoronto.com
SUMMARY:Louis Tomlinson - How Did We Get Here? World Tour
DESCRIPTION:.
URL:https://nowtoronto.com/event/louis-tomlinson-how-did-we-get-here-world-tour/
LOCATION:Scotiabank Arena\, 40 Bay Street\, Toronto\, M5J 2X2
CATEGORIES:Live Music
ATTACH;FMTTYPE=image/jpeg:https://nowtoronto.com/wp-content/uploads/2026/03/louis-tomlinson-how-did-we-get-here-world-tour.jpg
END:VEVENT
BEGIN:VEVENT
DTSTART;TZID=America/Toronto:20260721T200000
DTEND;TZID=America/Toronto:20260721T210000
DTSTAMP:20260424T040241
CREATED:20260423T130302Z
LAST-MODIFIED:20260423T130302Z
UID:10315366-1784664000-1784667600@nowtoronto.com
SUMMARY:IVE WORLD TOUR  IN TORONTO
DESCRIPTION:.
URL:https://nowtoronto.com/event/ive-world-tour-in-toronto/
LOCATION:Scotiabank Arena\, 40 Bay Street\, Toronto\, M5J 2X2
CATEGORIES:Live Music
ATTACH;FMTTYPE=image/jpeg:https://nowtoronto.com/wp-content/uploads/2026/03/ive-world-tour-in-toronto.jpg
END:VEVENT
END:VCALENDAR