BEGIN:VCALENDAR
VERSION:2.0
PRODID:-//NOW Toronto - ECPv6.15.20//NONSGML v1.0//EN
CALSCALE:GREGORIAN
METHOD:PUBLISH
X-ORIGINAL-URL:https://nowtoronto.com
X-WR-CALDESC:Events for NOW Toronto
REFRESH-INTERVAL;VALUE=DURATION:PT1H
X-Robots-Tag:noindex
X-PUBLISHED-TTL:PT1H
BEGIN:VTIMEZONE
TZID:America/Toronto
BEGIN:DAYLIGHT
TZOFFSETFROM:-0500
TZOFFSETTO:-0400
TZNAME:EDT
DTSTART:20250309T070000
END:DAYLIGHT
BEGIN:STANDARD
TZOFFSETFROM:-0400
TZOFFSETTO:-0500
TZNAME:EST
DTSTART:20251102T060000
END:STANDARD
BEGIN:DAYLIGHT
TZOFFSETFROM:-0500
TZOFFSETTO:-0400
TZNAME:EDT
DTSTART:20260308T070000
END:DAYLIGHT
BEGIN:STANDARD
TZOFFSETFROM:-0400
TZOFFSETTO:-0500
TZNAME:EST
DTSTART:20261101T060000
END:STANDARD
BEGIN:DAYLIGHT
TZOFFSETFROM:-0500
TZOFFSETTO:-0400
TZNAME:EDT
DTSTART:20270314T070000
END:DAYLIGHT
BEGIN:STANDARD
TZOFFSETFROM:-0400
TZOFFSETTO:-0500
TZNAME:EST
DTSTART:20271107T060000
END:STANDARD
END:VTIMEZONE
BEGIN:VEVENT
DTSTART;TZID=America/Toronto:20260428T200000
DTEND;TZID=America/Toronto:20260428T210000
DTSTAMP:20260419T125713
CREATED:20260419T130027Z
LAST-MODIFIED:20260419T130027Z
UID:10307257-1777406400-1777410000@nowtoronto.com
SUMMARY:Zinadelphia: Zina's Boutique
DESCRIPTION:.
URL:https://nowtoronto.com/event/zinadelphia-zinas-boutique/
LOCATION:TD Music Hall\, 178 Victoria St\, Toronto\, ON M5B 1T7\, Canada\, Old Toronto\, Toronto\, Ontario\, M5B 1T7
CATEGORIES:Live Music
ATTACH;FMTTYPE=image/jpeg:https://nowtoronto.com/wp-content/uploads/2026/03/zinadelphia-zinas-boutique.jpg
END:VEVENT
BEGIN:VEVENT
DTSTART;TZID=America/Toronto:20260512T200000
DTEND;TZID=America/Toronto:20260512T210000
DTSTAMP:20260419T125713
CREATED:20260419T130046Z
LAST-MODIFIED:20260419T130046Z
UID:10307603-1778616000-1778619600@nowtoronto.com
SUMMARY:Friqtao
DESCRIPTION:.
URL:https://nowtoronto.com/event/friqtao/
LOCATION:TD Music Hall\, 178 Victoria St\, Toronto\, ON M5B 1T7\, Canada\, Old Toronto\, Toronto\, Ontario\, M5B 1T7
CATEGORIES:Live Music
ATTACH;FMTTYPE=image/jpeg:https://nowtoronto.com/wp-content/uploads/2026/03/friqtao.jpg
END:VEVENT
BEGIN:VEVENT
DTSTART;TZID=America/Toronto:20260522T200000
DTEND;TZID=America/Toronto:20260522T210000
DTSTAMP:20260419T125713
CREATED:20260419T130053Z
LAST-MODIFIED:20260419T130053Z
UID:10307751-1779480000-1779483600@nowtoronto.com
SUMMARY:Rose Gray
DESCRIPTION:.
URL:https://nowtoronto.com/event/rose-gray/
LOCATION:TD Music Hall\, 178 Victoria St\, Toronto\, ON M5B 1T7\, Canada\, Old Toronto\, Toronto\, Ontario\, M5B 1T7
CATEGORIES:Live Music
ATTACH;FMTTYPE=image/jpeg:https://nowtoronto.com/wp-content/uploads/2026/03/rose-gray.jpg
END:VEVENT
BEGIN:VEVENT
DTSTART;TZID=America/Toronto:20260613T200000
DTEND;TZID=America/Toronto:20260613T210000
DTSTAMP:20260419T125713
CREATED:20260419T130104Z
LAST-MODIFIED:20260419T130104Z
UID:10308001-1781380800-1781384400@nowtoronto.com
SUMMARY:Neoni - How To Kill a Fairytale Tour
DESCRIPTION:.
URL:https://nowtoronto.com/event/neoni-how-to-kill-a-fairytale-tour/
LOCATION:TD Music Hall\, 178 Victoria St\, Toronto\, ON M5B 1T7\, Canada\, Old Toronto\, Toronto\, Ontario\, M5B 1T7
CATEGORIES:Live Music
ATTACH;FMTTYPE=image/jpeg:https://nowtoronto.com/wp-content/uploads/2026/03/neoni-how-to-kill-a-fairytale-tour-1.jpg
END:VEVENT
BEGIN:VEVENT
DTSTART;TZID=America/Toronto:20260626T200000
DTEND;TZID=America/Toronto:20260626T210000
DTSTAMP:20260419T125713
CREATED:20260419T130110Z
LAST-MODIFIED:20260419T130110Z
UID:10308140-1782504000-1782507600@nowtoronto.com
SUMMARY:Los Mirlos - Canada Tour 2026
DESCRIPTION:.
URL:https://nowtoronto.com/event/los-mirlos-canada-tour-2026/
LOCATION:TD Music Hall\, 178 Victoria St\, Toronto\, ON M5B 1T7\, Canada\, Old Toronto\, Toronto\, Ontario\, M5B 1T7
CATEGORIES:Live Music
ATTACH;FMTTYPE=image/jpeg:https://nowtoronto.com/wp-content/uploads/2026/03/los-mirlos-canada-tour-2026-1.jpg
END:VEVENT
END:VCALENDAR