BEGIN:VCALENDAR
VERSION:2.0
PRODID:-//NOW Toronto - ECPv6.15.20//NONSGML v1.0//EN
CALSCALE:GREGORIAN
METHOD:PUBLISH
X-ORIGINAL-URL:https://nowtoronto.com
X-WR-CALDESC:Events for NOW Toronto
REFRESH-INTERVAL;VALUE=DURATION:PT1H
X-Robots-Tag:noindex
X-PUBLISHED-TTL:PT1H
BEGIN:VTIMEZONE
TZID:America/Toronto
BEGIN:DAYLIGHT
TZOFFSETFROM:-0500
TZOFFSETTO:-0400
TZNAME:EDT
DTSTART:20240310T070000
END:DAYLIGHT
BEGIN:STANDARD
TZOFFSETFROM:-0400
TZOFFSETTO:-0500
TZNAME:EST
DTSTART:20241103T060000
END:STANDARD
BEGIN:DAYLIGHT
TZOFFSETFROM:-0500
TZOFFSETTO:-0400
TZNAME:EDT
DTSTART:20250309T070000
END:DAYLIGHT
BEGIN:STANDARD
TZOFFSETFROM:-0400
TZOFFSETTO:-0500
TZNAME:EST
DTSTART:20251102T060000
END:STANDARD
BEGIN:DAYLIGHT
TZOFFSETFROM:-0500
TZOFFSETTO:-0400
TZNAME:EDT
DTSTART:20260308T070000
END:DAYLIGHT
BEGIN:STANDARD
TZOFFSETFROM:-0400
TZOFFSETTO:-0500
TZNAME:EST
DTSTART:20261101T060000
END:STANDARD
END:VTIMEZONE
BEGIN:VEVENT
DTSTART;TZID=America/Toronto:20251030T200000
DTEND;TZID=America/Toronto:20251123T150000
DTSTAMP:20260425T201025
CREATED:20251123T140024Z
LAST-MODIFIED:20251123T140024Z
UID:10097042-1761854400-1763910000@nowtoronto.com
SUMMARY:The Comeuppance
DESCRIPTION:The past never really stays in the past.   \nA group of old classmates — self-declared the “Multi-Ethnic Reject Group”—reunites to pre-game their 20th high school reunion\, but nostalgia quickly turns into something darker. As drinks flow and old wounds resurface\, they confront the choices that shaped them\, the friendships that endured or crumbled\, and the presence of something—or someone—they can’t escape. Sharp\, theatrical\, and deeply moving\, The Comeuppance is a reckoning for elder millennials\, caught between who they were\, who they’ve become\, and the world they never saw coming. When the night ends\, will they still recognize themselves?
URL:https://nowtoronto.com/event/the-comeuppance/
LOCATION:Young Centre for the Performing Arts\, 50 Tank House Lane\, Toronto\, M5A 3C4
CATEGORIES:Performing Arts,Theatre & Opera
ATTACH;FMTTYPE=image/png:https://nowtoronto.com/wp-content/uploads/2025/10/the-comeuppance.png
END:VEVENT
BEGIN:VEVENT
DTSTART;TZID=America/Toronto:20250913T200000
DTEND;TZID=America/Toronto:20251005T153000
DTSTAMP:20260425T201025
CREATED:20251005T003826Z
LAST-MODIFIED:20251005T003826Z
UID:10053537-1757793600-1759678200@nowtoronto.com
SUMMARY:King Gilgamesh
DESCRIPTION:An epic\, music-charged bromance. \nTwo years after making its Canadian Premiere at Soulpepper\, King Gilgamesh return to the stage. This Dora-winning hybrid theatre-music production set between present-day Toronto and ancient Iraq\, created and performed by Ahmed Moneka and Jesse LaVercombe (alongside Ahmed’s Juno-nominated Arabic jazz band)\, has sold out runs in Minneapolis\, Halifax\, Chicago and New York City. \nThis present-day story of friendship interweaves with the ancient Mesopotamian Epic of Gilgamesh\, and along the way traces Ahmed’s real-life journey from exiled Iraqi actor to acclaimed musician in Canada. Featuring themes of art\, ambition\, sex\, and mortality\, this two-man epic spans centuries\, cultures\, and continents in a moving\, funny\, tragic\, and ultimately celebratory performance.
URL:https://nowtoronto.com/event/king-gilgamesh/
LOCATION:Young Centre for the Performing Arts\, 50 Tank House Lane\, Toronto\, M5A 3C4
CATEGORIES:Live Music,Performing Arts,Theatre & Opera
ATTACH;FMTTYPE=image/png:https://nowtoronto.com/wp-content/uploads/2025/10/king-gilgamesh.png
END:VEVENT
BEGIN:VEVENT
DTSTART;TZID=America/Toronto:20250904T193000
DTEND;TZID=America/Toronto:20251005T160000
DTSTAMP:20260425T201025
CREATED:20251005T002056Z
LAST-MODIFIED:20251005T002056Z
UID:10052784-1757014200-1759680000@nowtoronto.com
SUMMARY:The Welkin
DESCRIPTION:Rural England\, 1759. Halley’s Comet burns in the sky\, and a young woman is sentenced to hang. But when she tries to escape the noose by claiming to be pregnant\, a jury of twelve women are gathered to decide whether she is telling the truth. As tensions rise\, their task becomes a reckoning: with the law\, with power\, and with the roles they’re forced to play in a world that silences them. \nTony-Award Nominee Lucy Kirkwood’s The Welkin (Chimerica\, The Children) is a bold and blistering courtroom drama—by turns darkly comic and quietly devastating—about justice\, duty\, and righteous dissent.
URL:https://nowtoronto.com/event/the-welkin/
LOCATION:Young Centre for the Performing Arts\, 50 Tank House Lane\, Toronto\, M5A 3C4
CATEGORIES:Performing Arts,Theatre & Opera
ATTACH;FMTTYPE=image/png:https://nowtoronto.com/wp-content/uploads/2025/10/the-welkin.png
END:VEVENT
BEGIN:VEVENT
DTSTART;TZID=America/Toronto:20250820T190000
DTEND;TZID=America/Toronto:20250820T235900
DTSTAMP:20260425T201025
CREATED:20251005T000945Z
LAST-MODIFIED:20251005T000945Z
UID:10052394-1755716400-1755734340@nowtoronto.com
SUMMARY:Movie Night @ Soulpepper: Hands that Bind
DESCRIPTION:Hands That Bind is a prairie gothic drama set in the 1980s in small town Alberta. Andy\, a hired farmhand\, has severed ties with his father and devotes himself to working another man’s land with the hope that this land might one day be his. \nThose hopes are dashed when his boss’s ungrateful son returns to claim his birthright. As Andy struggles with providing for his family in a world that is increasingly unfamiliar\, a darkness settles over the community and mysterious events begin to occur around him. \n“An exercise in mental and emotional claustrophobia\, Kyle Armstrong’s new Canadian drama Hands that Bind succeeds beautifully at examining the social trappings of toxic masculinity\, poverty and the desperation created by both.” – Anne Donahue\, Globe and Mail \nFree general admission. No assigned seating. Registration required.
URL:https://nowtoronto.com/event/movie-night-soulpepper-hands-that-bind/
LOCATION:Young Centre for the Performing Arts\, 50 Tank House Lane\, Toronto\, M5A 3C4
CATEGORIES:Art & Design,Film & Media
ATTACH;FMTTYPE=image/jpeg:https://nowtoronto.com/wp-content/uploads/2025/10/movie-night-soulpepper-hands-that-bind.jpg
END:VEVENT
BEGIN:VEVENT
DTSTART;TZID=America/Toronto:20250820T180000
DTEND;TZID=America/Toronto:20250827T190000
DTSTAMP:20260425T201025
CREATED:20251005T001026Z
LAST-MODIFIED:20251005T001026Z
UID:10052410-1755712800-1756321200@nowtoronto.com
SUMMARY:Bollywood Dance Class
DESCRIPTION:Join free Bollywood Dance classes on Wednesdays from 6:00-7:00pm! This class is designed for both beginners and people with a range of experience. Registration is Free/Pay-What-You-Choose. \nRegistration is open for the following dates: \nJuly 23\nJuly 30\nAugust 6\nAugust 13\nAugust 20\nAugust 27 \nFor questions email: publicdomain@soulpepper.ca
URL:https://nowtoronto.com/event/bollywood-dance-class/
LOCATION:Young Centre for the Performing Arts\, 50 Tank House Lane\, Toronto\, M5A 3C4
CATEGORIES:Classes & Workshops,Dance,Performing Arts
ATTACH;FMTTYPE=image/png:https://nowtoronto.com/wp-content/uploads/2025/10/bollywood-dance-class.png
END:VEVENT
BEGIN:VEVENT
DTSTART;TZID=America/Toronto:20250819T180000
DTEND;TZID=America/Toronto:20250826T190000
DTSTAMP:20260425T201025
CREATED:20251005T001103Z
LAST-MODIFIED:20251005T001103Z
UID:10052434-1755626400-1756234800@nowtoronto.com
SUMMARY:Improv Class
DESCRIPTION:Whether you are an experienced artist\, Improv enthusiast or just curious about the world of improv\, this course welcomes you! Our class caters to all walks of life and through communal activities we will explore the power of “Yes and..”\, fundamentals of narrative construction\, and dabble in a bit of theatre devising. We at Soulpepper can’t wait to meet you! \nRegistration is open for the following dates: \nJuly 22\nJuly 29\nAugust 5\nAugust 12\nAugust 19\nAugust 26 \nFor questions email: publicdomain@soulpepper.ca
URL:https://nowtoronto.com/event/improv-class/
LOCATION:Young Centre for the Performing Arts\, 50 Tank House Lane\, Toronto\, M5A 3C4
CATEGORIES:Classes & Workshops,Comedy & Improv,Performing Arts
ATTACH;FMTTYPE=image/png:https://nowtoronto.com/wp-content/uploads/2025/10/improv-class.png
END:VEVENT
BEGIN:VEVENT
DTSTART;TZID=America/Toronto:20250816T130000
DTEND;TZID=America/Toronto:20250816T200000
DTSTAMP:20260425T201025
CREATED:20251005T000649Z
LAST-MODIFIED:20251005T000649Z
UID:10052322-1755349200-1755374400@nowtoronto.com
SUMMARY:Wardrobe Sale
DESCRIPTION:With an exciting new season kicking off\, our wardrobe department is once again clearing out stock to make room for upcoming shows and you’re invited to take advantage of this once annual opportunity to access clothing from their collection. \nJoin us in the Cabaret on Saturday August 16\, 1-8pm\, to shop the stock of items purchased for past productions. You’ll discover an array of clothes and accessories that span the eras and rare gems worn by some of your favourite Soulpepper artists on stage. \nAll proceeds from the sale go to support Public Domain\, our free\, accessible community programming stream. \nBring your own bag. Cash\, credit and debit accepted.   \nQuestions? Email jacqui.arntfield@soulpepper.ca
URL:https://nowtoronto.com/event/wardrobe-sale/
LOCATION:Young Centre for the Performing Arts\, 50 Tank House Lane\, Toronto\, M5A 3C4
CATEGORIES:Markets
ATTACH;FMTTYPE=image/jpeg:https://nowtoronto.com/wp-content/uploads/2025/10/wardrobe-sale.jpg
END:VEVENT
BEGIN:VEVENT
DTSTART;TZID=America/Toronto:20250816T130000
DTEND;TZID=America/Toronto:20250816T180000
DTSTAMP:20260425T201025
CREATED:20251005T000234Z
LAST-MODIFIED:20251005T000234Z
UID:10052178-1755349200-1755367200@nowtoronto.com
SUMMARY:Ferragosto Market
DESCRIPTION:As our friends in the Mediterranean know\, the hazy days of mid-August – the peak of summer by some measures – are a time for leisure and indulgence. To revel in this sundrenched holiday spell\, we’re bringing together some beloved local vendors for an afternoon of shopping one-of-a-kind treasures. Think custom jewelry\, gorgeous jade pieces\, handmade crochet\, vintage houseware\, and fragrant perfume oils. \nFeaturing:\nAlma Jewelry\nChampagne Socialist\nEverything Jade House\nHot Sugar Vintage\nNine Lives Knits\nPrint Vintage \nHappening on August 16\, 1-6pm in the TD Studio. Enter straight off Tank House Lane\, then saunter over to the Cabaret for our once annual Wardrobe Sale!
URL:https://nowtoronto.com/event/ferragosto-market/
LOCATION:Young Centre for the Performing Arts\, 50 Tank House Lane\, Toronto\, M5A 3C4
CATEGORIES:Markets
ATTACH;FMTTYPE=image/jpeg:https://nowtoronto.com/wp-content/uploads/2025/10/ferragosto-market.jpg
END:VEVENT
BEGIN:VEVENT
DTSTART;TZID=America/Toronto:20250815T200000
DTEND;TZID=America/Toronto:20250907T153000
DTSTAMP:20260425T201025
CREATED:20251005T000810Z
LAST-MODIFIED:20251005T000810Z
UID:10052346-1755288000-1757259000@nowtoronto.com
SUMMARY:Old Times
DESCRIPTION:“There are things I remember which may never have happened\, but as I recall them\, so they take place.” \nHarold Pinter’s Old Times is a taut psychosexual thriller exploring memory\, power\, and desire. When Anna visits her old friend Kate and her husband Deeley after twenty years\, conflicting recollections surface\, blurring the line between past and present. As a battle for dominance unfolds\, memory becomes a weapon—and reality becomes increasingly uncertain. \nMinimalist and enigmatic\, Old Times invites the audience to question what is real\, what is remembered\, and what is imagined. A haunting masterpiece.
URL:https://nowtoronto.com/event/old-times/
LOCATION:Young Centre for the Performing Arts\, 50 Tank House Lane\, Toronto\, M5A 3C4
CATEGORIES:Performing Arts,Theatre & Opera
ATTACH;FMTTYPE=image/png:https://nowtoronto.com/wp-content/uploads/2025/10/old-times.png
END:VEVENT
BEGIN:VEVENT
DTSTART;TZID=America/Toronto:20250815T193000
DTEND;TZID=America/Toronto:20250817T235900
DTSTAMP:20260425T201025
CREATED:20251005T000207Z
LAST-MODIFIED:20251005T000207Z
UID:10052165-1755286200-1755475140@nowtoronto.com
SUMMARY:Kim's Convenience
DESCRIPTION:“What is my story? What is the story of me\, Mr. Kim? My whole life is this store. Everybody knows this store\, they know me. This store is my story.” \nAfter a highly successful run this winter\, Appa re-opens his store this summer with Kim’s Convenience returning this August for a limited time. \nSet in a Korean-Canadian convenience store in Toronto\, this hit production written by and starring Ins Choi\, has captured the hearts of audiences with its perfect blend of humour\, warmth\, and cultural exploration. \nStocked with sharp wit\, relatable family dynamics\, and touching moments throughout\, Kim’s Convenience has once again proven why it’s one of the most beloved and celebrated Canadian plays of all-time.
URL:https://nowtoronto.com/event/kims-convenience/
LOCATION:Young Centre for the Performing Arts\, 50 Tank House Lane\, Toronto\, M5A 3C4
CATEGORIES:Performing Arts,Theatre & Opera
ATTACH;FMTTYPE=image/jpeg:https://nowtoronto.com/wp-content/uploads/2025/10/kims-convenience.jpg
END:VEVENT
END:VCALENDAR