BEGIN:VCALENDAR
VERSION:2.0
PRODID:-//NOW Toronto - ECPv6.15.20//NONSGML v1.0//EN
CALSCALE:GREGORIAN
METHOD:PUBLISH
X-WR-CALNAME:NOW Toronto
X-ORIGINAL-URL:https://nowtoronto.com
X-WR-CALDESC:Events for NOW Toronto
REFRESH-INTERVAL;VALUE=DURATION:PT1H
X-Robots-Tag:noindex
X-PUBLISHED-TTL:PT1H
BEGIN:VTIMEZONE
TZID:America/Toronto
BEGIN:DAYLIGHT
TZOFFSETFROM:-0500
TZOFFSETTO:-0400
TZNAME:EDT
DTSTART:20250309T070000
END:DAYLIGHT
BEGIN:STANDARD
TZOFFSETFROM:-0400
TZOFFSETTO:-0500
TZNAME:EST
DTSTART:20251102T060000
END:STANDARD
BEGIN:DAYLIGHT
TZOFFSETFROM:-0500
TZOFFSETTO:-0400
TZNAME:EDT
DTSTART:20260308T070000
END:DAYLIGHT
BEGIN:STANDARD
TZOFFSETFROM:-0400
TZOFFSETTO:-0500
TZNAME:EST
DTSTART:20261101T060000
END:STANDARD
BEGIN:DAYLIGHT
TZOFFSETFROM:-0500
TZOFFSETTO:-0400
TZNAME:EDT
DTSTART:20270314T070000
END:DAYLIGHT
BEGIN:STANDARD
TZOFFSETFROM:-0400
TZOFFSETTO:-0500
TZNAME:EST
DTSTART:20271107T060000
END:STANDARD
END:VTIMEZONE
BEGIN:VEVENT
DTSTART;TZID=America/Toronto:20260416T110000
DTEND;TZID=America/Toronto:20260523T180000
DTSTAMP:20260424T172843
CREATED:20260424T130015Z
LAST-MODIFIED:20260424T130015Z
UID:1535577-1776337200-1779559200@nowtoronto.com
SUMMARY:Zinnia Naqvi & Shahana Rajani: Island of Strangers
DESCRIPTION:In British Prime Minister Keir Starmer’s White Paper strategy on immigration\, he warned that without stronger integration “we risk becoming an island of strangers.” Working with found photography and personal memory\, Naqvi traces her own experiences with migration\, and her relationship\, from a very young age\, to belonging\, and its reduction to a measure of utility: questioning which bodies are valued\, which are excluded. \nThe Arabic word for universe\, alam\, and the word for knowledge\, ilm\, share their origin in the word alamah\, a mark. In this exhibition\, Rajani explores practices and lineages of drawing and mark-making through which coastal communities in Pakistan remain connected to sacred ecologies of rivers and sea amidst the violence and erasure of infrastructure. Rajani intertwines old and new practices of drawing talismans and making river maps as echoing rituals that protect\, invoke and keep alive endangered worlds.
URL:https://nowtoronto.com/event/zinnia-naqvi-shahana-rajani-island-of-strangers/
LOCATION:Susan Hobbs Gallery\, 137 Tecumseth Street\, Toronto\, M6J 2H4
CATEGORIES:Art & Design,Exhibitions
ATTACH;FMTTYPE=image/png:https://nowtoronto.com/wp-content/uploads/2026/03/zinnia-naqvi-shahana-rajani-island-of-strangers.png
END:VEVENT
END:VCALENDAR